BEGIN:VCALENDAR
VERSION:2.0
PRODID:-//AusschreibungsRadar//Timeline//DE
CALSCALE:GREGORIAN
METHOD:PUBLISH
X-WR-CALNAME:Projekt Neubau Obdachlosen- und Flüchtlingsunterkunft, Generalüberne
X-WR-TIMEZONE:Europe/Berlin
BEGIN:VEVENT
UID:c76db1ecd2db351d@ausschreibungsradar.com
DTSTAMP:20260425T193959Z
DTSTART;VALUE=DATE:20240920
DTEND;VALUE=DATE:20240920
SUMMARY:Angebotsfrist — Neubau Obdachlosen- und Flüchtlingsunterkunft\, Generalüberne
DESCRIPTION:Phase: Ausschreibung | Beschreibung: Angebote werden eingeholt | Link: https://ausschreibungsradar.com/ausschreibung/0b987503-ebb0-4994-94b4-1e489ef79c98/
URL:https://ausschreibungsradar.com/ausschreibung/0b987503-ebb0-4994-94b4-1e489ef79c98/
END:VEVENT
BEGIN:VEVENT
UID:d33a4b750f221008@ausschreibungsradar.com
DTSTAMP:20260425T193959Z
DTSTART;VALUE=DATE:20241128
DTEND;VALUE=DATE:20241128
SUMMARY:Vergabeergebnis — Neubau Obdachlosen- und Flüchtlingsunterkunft\, Generalüberne
DESCRIPTION:Phase: Vergabeergebnis | Beschreibung: Auftrag wurde zugeschlagen | Link: https://ausschreibungsradar.com/ausschreibung/f7884d4e-681b-45ce-a6e4-27d5763c88ba/
URL:https://ausschreibungsradar.com/ausschreibung/f7884d4e-681b-45ce-a6e4-27d5763c88ba/
END:VEVENT
END:VCALENDAR
