BEGIN:VCALENDAR
VERSION:2.0
PRODID:-//AusschreibungsRadar//Timeline//DE
CALSCALE:GREGORIAN
METHOD:PUBLISH
X-WR-CALNAME:Projekt Kreishausneubau, Itzehoe
Zimmerer- und Holzbauarbeiten 1.BA
X-WR-TIMEZONE:Europe/Berlin
BEGIN:VEVENT
UID:97028ffa55158082@ausschreibungsradar.com
DTSTAMP:20260425T151722Z
DTSTART;VALUE=DATE:20260205
DTEND;VALUE=DATE:20260205
SUMMARY:Vertragsmodifikation — Kreishausneubau\, Itzehoe\nZimmerer- und Holzbauarbeiten 1.BA
DESCRIPTION:Phase: Vertragsmodifikation | Beschreibung: Änderung am bestehenden Vertrag nach Zuschlag. | Link: https://ausschreibungsradar.com/ausschreibung/f7e22c8f-32b5-415c-9f3b-be563543a109/
URL:https://ausschreibungsradar.com/ausschreibung/f7e22c8f-32b5-415c-9f3b-be563543a109/
END:VEVENT
BEGIN:VEVENT
UID:643bb055ba5cb49b@ausschreibungsradar.com
DTSTAMP:20260425T151722Z
DTSTART;VALUE=DATE:20260205
DTEND;VALUE=DATE:20260205
SUMMARY:Vertragsmodifikation — Kreishausneubau\, Itzehoe\nZimmerer- und Holzbauarbeiten 1.BA
DESCRIPTION:Phase: Vertragsmodifikation | Beschreibung: Änderung am bestehenden Vertrag nach Zuschlag. | Link: https://ausschreibungsradar.com/ausschreibung/617b9cb9-2513-4ff1-b083-c2660c38c96c/
URL:https://ausschreibungsradar.com/ausschreibung/617b9cb9-2513-4ff1-b083-c2660c38c96c/
END:VEVENT
END:VCALENDAR
