BEGIN:VCALENDAR
VERSION:2.0
PRODID:-//AusschreibungsRadar//Timeline//DE
CALSCALE:GREGORIAN
METHOD:PUBLISH
X-WR-CALNAME:Projekt Planungsleistungen Technische Ausrüstung
X-WR-TIMEZONE:Europe/Berlin
BEGIN:VEVENT
UID:39880f90635b8f6d@ausschreibungsradar.com
DTSTAMP:20260426T005843Z
DTSTART;VALUE=DATE:20250726
DTEND;VALUE=DATE:20250726
SUMMARY:Ausschreibung — Planungsleistungen Technische Ausrüstung
DESCRIPTION:Phase: Ausschreibung | Beschreibung: Angebote werden eingeholt | Link: https://ausschreibungsradar.com/ausschreibung/8119252a-2147-4078-82ca-f0dff80e2232/
URL:https://ausschreibungsradar.com/ausschreibung/8119252a-2147-4078-82ca-f0dff80e2232/
END:VEVENT
BEGIN:VEVENT
UID:1505d17b477aa245@ausschreibungsradar.com
DTSTAMP:20260426T005843Z
DTSTART;VALUE=DATE:20251008
DTEND;VALUE=DATE:20251008
SUMMARY:Vergabeergebnis — Planungsleistungen Technische Ausrüstung
DESCRIPTION:Phase: Vergabeergebnis | Beschreibung: Auftrag wurde zugeschlagen | Link: https://ausschreibungsradar.com/ausschreibung/f8de896c-b62d-4798-afcf-7fae724c7709/
URL:https://ausschreibungsradar.com/ausschreibung/f8de896c-b62d-4798-afcf-7fae724c7709/
END:VEVENT
END:VCALENDAR
