BEGIN:VCALENDAR
VERSION:2.0
PRODID:-//AusschreibungsRadar//Timeline//DE
CALSCALE:GREGORIAN
METHOD:PUBLISH
X-WR-CALNAME:Projekt Sanierung Halle Am Wirt in Diez - Los 03
X-WR-TIMEZONE:Europe/Berlin
BEGIN:VEVENT
UID:95d82a664d7daa36@ausschreibungsradar.com
DTSTAMP:20260425T234024Z
DTSTART;VALUE=DATE:20250304
DTEND;VALUE=DATE:20250304
SUMMARY:Angebotsfrist — Sanierung Halle Am Wirt in Diez - Los 03
DESCRIPTION:Phase: Ausschreibung | Beschreibung: Angebote werden eingeholt | Link: https://ausschreibungsradar.com/ausschreibung/f91fa3ac-9abe-42e7-9c80-b75a76a65ede/
URL:https://ausschreibungsradar.com/ausschreibung/f91fa3ac-9abe-42e7-9c80-b75a76a65ede/
END:VEVENT
BEGIN:VEVENT
UID:4ada3a609cc0d620@ausschreibungsradar.com
DTSTAMP:20260425T234024Z
DTSTART;VALUE=DATE:20250128
DTEND;VALUE=DATE:20250128
SUMMARY:Ausschreibung — Sanierung Halle Am Wirt in Diez - Los 03
DESCRIPTION:Phase: Ausschreibung | Beschreibung: Offizielle Ausschreibung mit Bieterfrist. | Link: https://ausschreibungsradar.com/ausschreibung/4d7960c5-797a-4418-825a-32fca54863e0/
URL:https://ausschreibungsradar.com/ausschreibung/4d7960c5-797a-4418-825a-32fca54863e0/
END:VEVENT
BEGIN:VEVENT
UID:026c2717d2070e55@ausschreibungsradar.com
DTSTAMP:20260425T234024Z
DTSTART;VALUE=DATE:20250520
DTEND;VALUE=DATE:20250520
SUMMARY:Vergabeergebnis — Sanierung Halle Am Wirt in Diez - Los 03
DESCRIPTION:Phase: Vergabeergebnis | Beschreibung: Auftrag wurde zugeschlagen | Link: https://ausschreibungsradar.com/ausschreibung/dd894529-e8ca-44bf-989f-6c80573163f9/
URL:https://ausschreibungsradar.com/ausschreibung/dd894529-e8ca-44bf-989f-6c80573163f9/
END:VEVENT
END:VCALENDAR
