BEGIN:VCALENDAR
VERSION:2.0
PRODID:-//AusschreibungsRadar//Timeline//DE
CALSCALE:GREGORIAN
METHOD:PUBLISH
X-WR-CALNAME:Projekt Neubau Feuerwehrgerätehaus in der Stadt Kusel; hier: Gas-, W
X-WR-TIMEZONE:Europe/Berlin
BEGIN:VEVENT
UID:c8b4855c049f597d@ausschreibungsradar.com
DTSTAMP:20260425T234052Z
DTSTART;VALUE=DATE:20251111
DTEND;VALUE=DATE:20251111
SUMMARY:Angebotsfrist — Neubau Feuerwehrgerätehaus in der Stadt Kusel\; hier: Gas-\, W
DESCRIPTION:Phase: Ausschreibung | Beschreibung: Angebote werden eingeholt | Link: https://ausschreibungsradar.com/ausschreibung/f93be291-5ded-4e30-94c4-e62651df0e43/
URL:https://ausschreibungsradar.com/ausschreibung/f93be291-5ded-4e30-94c4-e62651df0e43/
END:VEVENT
BEGIN:VEVENT
UID:d3e2b4d96af65ffb@ausschreibungsradar.com
DTSTAMP:20260425T234052Z
DTSTART;VALUE=DATE:20251008
DTEND;VALUE=DATE:20251008
SUMMARY:Ausschreibung — Neubau Feuerwehrgerätehaus in der Stadt Kusel\; hier: Gas-\, W
DESCRIPTION:Phase: Ausschreibung | Beschreibung: Offizielle Ausschreibung mit Bieterfrist. | Link: https://ausschreibungsradar.com/ausschreibung/ted-660419-2025/
URL:https://ausschreibungsradar.com/ausschreibung/ted-660419-2025/
END:VEVENT
END:VCALENDAR
