BEGIN:VCALENDAR
VERSION:2.0
PRODID:-//AusschreibungsRadar//Timeline//DE
CALSCALE:GREGORIAN
METHOD:PUBLISH
X-WR-CALNAME:Projekt Renovierungs- und Malerarbeiten
X-WR-TIMEZONE:Europe/Berlin
BEGIN:VEVENT
UID:b15829e3e21f97d7@ausschreibungsradar.com
DTSTAMP:20260426T013517Z
DTSTART;VALUE=DATE:20250506
DTEND;VALUE=DATE:20250506
SUMMARY:Angebotsfrist — Renovierungs- und Malerarbeiten
DESCRIPTION:Phase: Ausschreibung | Beschreibung: Angebote werden eingeholt | Link: https://ausschreibungsradar.com/ausschreibung/8fa60cb3-2a02-4f69-b194-6ad377d277a8/ | Geschätzter Wert: 1 €
URL:https://ausschreibungsradar.com/ausschreibung/8fa60cb3-2a02-4f69-b194-6ad377d277a8/
END:VEVENT
BEGIN:VEVENT
UID:ad586b6e808632ab@ausschreibungsradar.com
DTSTAMP:20260426T013517Z
DTSTART;VALUE=DATE:20250602
DTEND;VALUE=DATE:20250602
SUMMARY:Vergabeergebnis — Renovierungs- und Malerarbeiten
DESCRIPTION:Phase: Vergabeergebnis | Beschreibung: Auftrag wurde zugeschlagen | Link: https://ausschreibungsradar.com/ausschreibung/f967c3e6-5c44-4a5b-afac-d9f5eccc36f9/ | Geschätzter Wert: 1 €
URL:https://ausschreibungsradar.com/ausschreibung/f967c3e6-5c44-4a5b-afac-d9f5eccc36f9/
END:VEVENT
END:VCALENDAR
