BEGIN:VCALENDAR
VERSION:2.0
PRODID:-//AusschreibungsRadar//Timeline//DE
CALSCALE:GREGORIAN
METHOD:PUBLISH
X-WR-CALNAME:Projekt Vergabe von Personenbeförderungsleistungen im Linienverkehr 
X-WR-TIMEZONE:Europe/Berlin
BEGIN:VEVENT
UID:ae16dd498e597909@ausschreibungsradar.com
DTSTAMP:20260424T143759Z
DTSTART;VALUE=DATE:20260417
DTEND;VALUE=DATE:20260417
SUMMARY:Vorinformation — Vergabe von Personenbeförderungsleistungen im Linienverkehr 
DESCRIPTION:Phase: Vorinformation | Beschreibung: Vorab-Ankündigung der Vergabestelle — keine verbindliche Ausschreibung. | Link: https://ausschreibungsradar.com/ausschreibung/fdf7bb2c-f563-4b55-9b73-8b253b2bff46
URL:https://ausschreibungsradar.com/ausschreibung/fdf7bb2c-f563-4b55-9b73-8b253b2bff46/
END:VEVENT
BEGIN:VEVENT
UID:ae9b5e09f35eda62@ausschreibungsradar.com
DTSTAMP:20260424T143759Z
DTSTART;VALUE=DATE:20260417
DTEND;VALUE=DATE:20260417
SUMMARY:Vorinformation — Vergabe von Personenbeförderungsleistungen im Linienverkehr 
DESCRIPTION:Phase: Vorinformation | Beschreibung: Vorab-Ankündigung der Vergabestelle — keine verbindliche Ausschreibung. | Link: https://ausschreibungsradar.com/ausschreibung/a152c08d-3b6b-483f-9a99-0b8b6f69a4b9
URL:https://ausschreibungsradar.com/ausschreibung/a152c08d-3b6b-483f-9a99-0b8b6f69a4b9/
END:VEVENT
BEGIN:VEVENT
UID:1880c070b3b07194@ausschreibungsradar.com
DTSTAMP:20260424T143759Z
DTSTART;VALUE=DATE:20260420
DTEND;VALUE=DATE:20260420
SUMMARY:Vorinformation — Vergabe von Personenbeförderungsleistungen im Linienverkehr 
DESCRIPTION:Phase: Vorinformation | Beschreibung: Vorab-Ankündigung der Vergabestelle — keine verbindliche Ausschreibung. | Link: https://ausschreibungsradar.com/ausschreibung/f9a1cbbf-b367-4e2d-950b-26adff58c357
URL:https://ausschreibungsradar.com/ausschreibung/f9a1cbbf-b367-4e2d-950b-26adff58c357/
END:VEVENT
BEGIN:VEVENT
UID:9068d0e3f434ae68@ausschreibungsradar.com
DTSTAMP:20260424T143759Z
DTSTART;VALUE=DATE:20260420
DTEND;VALUE=DATE:20260420
SUMMARY:Vorinformation — Vergabe von Personenbeförderungsleistungen im Linienverkehr 
DESCRIPTION:Phase: Vorinformation | Beschreibung: Vorab-Ankündigung der Vergabestelle — keine verbindliche Ausschreibung. | Link: https://ausschreibungsradar.com/ausschreibung/f47905cf-6979-4545-a673-336b97abe2f7
URL:https://ausschreibungsradar.com/ausschreibung/f47905cf-6979-4545-a673-336b97abe2f7/
END:VEVENT
BEGIN:VEVENT
UID:cc6bcc64164db144@ausschreibungsradar.com
DTSTAMP:20260424T143759Z
DTSTART;VALUE=DATE:20260421
DTEND;VALUE=DATE:20260421
SUMMARY:Vorinformation — Vergabe von Personenbeförderungsleistungen im Linienverkehr 
DESCRIPTION:Phase: Vorinformation | Beschreibung: Vorab-Ankündigung der Vergabestelle — keine verbindliche Ausschreibung. | Link: https://ausschreibungsradar.com/ausschreibung/ted-270896-2026/
URL:https://ausschreibungsradar.com/ausschreibung/ted-270896-2026/
END:VEVENT
BEGIN:VEVENT
UID:0e9cec8eed71a18e@ausschreibungsradar.com
DTSTAMP:20260424T143759Z
DTSTART;VALUE=DATE:20260422
DTEND;VALUE=DATE:20260422
SUMMARY:Vorinformation — Vergabe von Personenbeförderungsleistungen im Linienverkehr 
DESCRIPTION:Phase: Vorinformation | Beschreibung: Vorab-Ankündigung der Vergabestelle — keine verbindliche Ausschreibung. | Link: https://ausschreibungsradar.com/ausschreibung/ted-275706-2026/
URL:https://ausschreibungsradar.com/ausschreibung/ted-275706-2026/
END:VEVENT
END:VCALENDAR
