BEGIN:VCALENDAR
VERSION:2.0
PRODID:-//AusschreibungsRadar//Timeline//DE
CALSCALE:GREGORIAN
METHOD:PUBLISH
X-WR-CALNAME:Projekt Trockenbau 3.6
X-WR-TIMEZONE:Europe/Berlin
BEGIN:VEVENT
UID:ef6beb0867c03d47@ausschreibungsradar.com
DTSTAMP:20260425T181513Z
DTSTART;VALUE=DATE:20260505
DTEND;VALUE=DATE:20260505
SUMMARY:Angebotsfrist — Trockenbau 3.6
DESCRIPTION:Phase: Ausschreibung | Beschreibung: Angebote werden eingeholt | Link: https://ausschreibungsradar.com/ausschreibung/fa6730d8-56fc-48df-95f6-546dfb559509/
URL:https://ausschreibungsradar.com/ausschreibung/fa6730d8-56fc-48df-95f6-546dfb559509/
END:VEVENT
END:VCALENDAR
