BEGIN:VCALENDAR
VERSION:2.0
PRODID:-//AusschreibungsRadar//Timeline//DE
CALSCALE:GREGORIAN
METHOD:PUBLISH
X-WR-CALNAME:Projekt Neubau Bauteil E
X-WR-TIMEZONE:Europe/Berlin
BEGIN:VEVENT
UID:0f0c54d62d7d290f@ausschreibungsradar.com
DTSTAMP:20260424T121225Z
DTSTART;VALUE=DATE:20260424
DTEND;VALUE=DATE:20260424
SUMMARY:Angebotsfrist — Neubau Bauteil E
DESCRIPTION:Phase: Ausschreibung | Beschreibung: Angebote werden eingeholt | Link: https://ausschreibungsradar.com/ausschreibung/fa9543a5-2aad-4d27-8de3-c9593deb4b36/
URL:https://ausschreibungsradar.com/ausschreibung/fa9543a5-2aad-4d27-8de3-c9593deb4b36/
END:VEVENT
BEGIN:VEVENT
UID:1da85650c4a0988a@ausschreibungsradar.com
DTSTAMP:20260424T121225Z
DTSTART;VALUE=DATE:20260326
DTEND;VALUE=DATE:20260326
SUMMARY:Ausschreibung — Neubau Bauteil E
DESCRIPTION:Phase: Ausschreibung | Beschreibung: Offizielle Ausschreibung mit Bieterfrist. | Link: https://ausschreibungsradar.com/ausschreibung/56a9f62c-e89c-4fe8-be07-fd0d7e3d3843/
URL:https://ausschreibungsradar.com/ausschreibung/56a9f62c-e89c-4fe8-be07-fd0d7e3d3843/
END:VEVENT
END:VCALENDAR
