BEGIN:VCALENDAR
VERSION:2.0
PRODID:-//AusschreibungsRadar//Timeline//DE
CALSCALE:GREGORIAN
METHOD:PUBLISH
X-WR-CALNAME:Projekt Neubau Bildungscampus Großrinderfeld - Innenputz- und Malera
X-WR-TIMEZONE:Europe/Berlin
BEGIN:VEVENT
UID:ce490c6054c9f182@ausschreibungsradar.com
DTSTAMP:20260424T134621Z
DTSTART;VALUE=DATE:20260224
DTEND;VALUE=DATE:20260224
SUMMARY:Angebotsfrist — Neubau Bildungscampus Großrinderfeld - Innenputz- und Malera
DESCRIPTION:Phase: Ausschreibung | Beschreibung: Angebote werden eingeholt | Link: https://ausschreibungsradar.com/ausschreibung/faaeb846-1619-4bae-903c-e9b7c0212207/
URL:https://ausschreibungsradar.com/ausschreibung/faaeb846-1619-4bae-903c-e9b7c0212207/
END:VEVENT
BEGIN:VEVENT
UID:3f61c8c8e53aac22@ausschreibungsradar.com
DTSTAMP:20260424T134621Z
DTSTART;VALUE=DATE:20260123
DTEND;VALUE=DATE:20260123
SUMMARY:Ausschreibung — Neubau Bildungscampus Großrinderfeld - Innenputz- und Malera
DESCRIPTION:Phase: Ausschreibung | Beschreibung: Offizielle Ausschreibung mit Bieterfrist. | Link: https://ausschreibungsradar.com/ausschreibung/5525a461-08c1-4baa-b099-1419a63bf9c3/
URL:https://ausschreibungsradar.com/ausschreibung/5525a461-08c1-4baa-b099-1419a63bf9c3/
END:VEVENT
BEGIN:VEVENT
UID:2e2d43b4ae3ba206@ausschreibungsradar.com
DTSTAMP:20260424T134621Z
DTSTART;VALUE=DATE:20260123
DTEND;VALUE=DATE:20260123
SUMMARY:Ausschreibung — Neubau Bildungscampus Großrinderfeld - Innenputz- und Malera
DESCRIPTION:Phase: Ausschreibung | Beschreibung: Offizielle Ausschreibung mit Bieterfrist. | Link: https://ausschreibungsradar.com/ausschreibung/44051289-483e-42d6-9c20-0c87e1125313/
URL:https://ausschreibungsradar.com/ausschreibung/44051289-483e-42d6-9c20-0c87e1125313/
END:VEVENT
BEGIN:VEVENT
UID:65d72b1937d0044e@ausschreibungsradar.com
DTSTAMP:20260424T134621Z
DTSTART;VALUE=DATE:20260123
DTEND;VALUE=DATE:20260123
SUMMARY:Ausschreibung — Neubau Bildungscampus Großrinderfeld - Innenputz- und Malera
DESCRIPTION:Phase: Ausschreibung | Beschreibung: Offizielle Ausschreibung mit Bieterfrist. | Link: https://ausschreibungsradar.com/ausschreibung/56cc016b-274a-41b0-ba96-4808d7cc1fc2/
URL:https://ausschreibungsradar.com/ausschreibung/56cc016b-274a-41b0-ba96-4808d7cc1fc2/
END:VEVENT
BEGIN:VEVENT
UID:804df1ad93158a71@ausschreibungsradar.com
DTSTAMP:20260424T134621Z
DTSTART;VALUE=DATE:20260123
DTEND;VALUE=DATE:20260123
SUMMARY:Ausschreibung — Neubau Bildungscampus Großrinderfeld - Innenputz- und Malera
DESCRIPTION:Phase: Ausschreibung | Beschreibung: Offizielle Ausschreibung mit Bieterfrist. | Link: https://ausschreibungsradar.com/ausschreibung/a851e747-e97d-4fc3-8671-ee0321735fe9/
URL:https://ausschreibungsradar.com/ausschreibung/a851e747-e97d-4fc3-8671-ee0321735fe9/
END:VEVENT
BEGIN:VEVENT
UID:7a58301b72414d23@ausschreibungsradar.com
DTSTAMP:20260424T134621Z
DTSTART;VALUE=DATE:20260123
DTEND;VALUE=DATE:20260123
SUMMARY:Ausschreibung — Neubau Bildungscampus Großrinderfeld - Innenputz- und Malera
DESCRIPTION:Phase: Ausschreibung | Beschreibung: Offizielle Ausschreibung mit Bieterfrist. | Link: https://ausschreibungsradar.com/ausschreibung/e0732bd9-9b85-493f-9713-5465f2d1e66c/
URL:https://ausschreibungsradar.com/ausschreibung/e0732bd9-9b85-493f-9713-5465f2d1e66c/
END:VEVENT
END:VCALENDAR
