BEGIN:VCALENDAR
VERSION:2.0
PRODID:-//AusschreibungsRadar//Timeline//DE
CALSCALE:GREGORIAN
METHOD:PUBLISH
X-WR-CALNAME:Projekt Christophorus-Grundschule - Unterhaltsreinigung
X-WR-TIMEZONE:Europe/Berlin
BEGIN:VEVENT
UID:74f938b1adff156b@ausschreibungsradar.com
DTSTAMP:20260425T213705Z
DTSTART;VALUE=DATE:20260416
DTEND;VALUE=DATE:20260416
SUMMARY:Angebotsfrist — Christophorus-Grundschule - Unterhaltsreinigung
DESCRIPTION:Phase: Ausschreibung | Beschreibung: Angebote werden eingeholt | Link: https://ausschreibungsradar.com/ausschreibung/faed5408-a97a-42d0-9b63-2c24dead5188/
URL:https://ausschreibungsradar.com/ausschreibung/faed5408-a97a-42d0-9b63-2c24dead5188/
END:VEVENT
END:VCALENDAR
