BEGIN:VCALENDAR
VERSION:2.0
PRODID:-//AusschreibungsRadar//Timeline//DE
CALSCALE:GREGORIAN
METHOD:PUBLISH
X-WR-CALNAME:Projekt AE - Teilneubau der Grundschule Groß Berkel - Schlosserarbei
X-WR-TIMEZONE:Europe/Berlin
BEGIN:VEVENT
UID:e6b543b16f4e95f8@ausschreibungsradar.com
DTSTAMP:20260425T113437Z
DTSTART;VALUE=DATE:20250701
DTEND;VALUE=DATE:20250701
SUMMARY:Zuschlag — AE - Teilneubau der Grundschule Groß Berkel - Schlosserarbei
DESCRIPTION:Phase: Zuschlag | Beschreibung: Vergabeergebnis — Auftrag wurde erteilt oder Verfahren beendet. | Link: https://ausschreibungsradar.com/ausschreibung/b02f5d8a-f4c5-44d8-9a88-3c0e3d19f078/
URL:https://ausschreibungsradar.com/ausschreibung/b02f5d8a-f4c5-44d8-9a88-3c0e3d19f078/
END:VEVENT
BEGIN:VEVENT
UID:2fcd977398109a59@ausschreibungsradar.com
DTSTAMP:20260425T113437Z
DTSTART;VALUE=DATE:20250805
DTEND;VALUE=DATE:20250805
SUMMARY:Angebotsfrist — AE - Teilneubau der Grundschule Groß Berkel - Schlosserarbei
DESCRIPTION:Phase: Ausschreibung | Beschreibung: Angebote werden eingeholt | Link: https://ausschreibungsradar.com/ausschreibung/fafeaa85-bfad-44ac-99a5-343811396cd2/
URL:https://ausschreibungsradar.com/ausschreibung/fafeaa85-bfad-44ac-99a5-343811396cd2/
END:VEVENT
BEGIN:VEVENT
UID:17f9bf448df52610@ausschreibungsradar.com
DTSTAMP:20260425T113437Z
DTSTART;VALUE=DATE:20250801
DTEND;VALUE=DATE:20250801
SUMMARY:Ausschreibung — AE - Teilneubau der Grundschule Groß Berkel - Schlosserarbei
DESCRIPTION:Phase: Ausschreibung | Beschreibung: Offizielle Ausschreibung mit Bieterfrist. | Link: https://ausschreibungsradar.com/ausschreibung/3fd0a4c0-7ca5-423a-b776-ebc8bb542797/
URL:https://ausschreibungsradar.com/ausschreibung/3fd0a4c0-7ca5-423a-b776-ebc8bb542797/
END:VEVENT
BEGIN:VEVENT
UID:cc1c2ffff805a812@ausschreibungsradar.com
DTSTAMP:20260425T113437Z
DTSTART;VALUE=DATE:20251013
DTEND;VALUE=DATE:20251013
SUMMARY:Vergabeergebnis — AE - Teilneubau der Grundschule Groß Berkel - Schlosserarbei
DESCRIPTION:Phase: Vergabeergebnis | Beschreibung: Auftrag wurde zugeschlagen | Link: https://ausschreibungsradar.com/ausschreibung/7d4f8784-e6ed-453d-b2bf-dda94cc8c215/
URL:https://ausschreibungsradar.com/ausschreibung/7d4f8784-e6ed-453d-b2bf-dda94cc8c215/
END:VEVENT
END:VCALENDAR
