BEGIN:VCALENDAR
VERSION:2.0
PRODID:-//AusschreibungsRadar//Timeline//DE
CALSCALE:GREGORIAN
METHOD:PUBLISH
X-WR-CALNAME:Projekt Einkauf von Dampfsterilisatoren
X-WR-TIMEZONE:Europe/Berlin
BEGIN:VEVENT
UID:1cfbe2ed7e87f2fd@ausschreibungsradar.com
DTSTAMP:20260424T043114Z
DTSTART;VALUE=DATE:20240910
DTEND;VALUE=DATE:20240910
SUMMARY:Ausschreibung — Einkauf von Dampfsterilisatoren
DESCRIPTION:Phase: Ausschreibung | Beschreibung: Angebote werden eingeholt | Link: https://ausschreibungsradar.com/ausschreibung/fba3f6f7-a03d-40dc-a487-74b09e7d5fd5/ | Geschätzter Wert: 320000 €
URL:https://ausschreibungsradar.com/ausschreibung/fba3f6f7-a03d-40dc-a487-74b09e7d5fd5/
END:VEVENT
BEGIN:VEVENT
UID:3877986b2494946a@ausschreibungsradar.com
DTSTAMP:20260424T043114Z
DTSTART;VALUE=DATE:20240910
DTEND;VALUE=DATE:20240910
SUMMARY:Ausschreibung — Einkauf von Dampfsterilisatoren
DESCRIPTION:Phase: Ausschreibung | Beschreibung: Offizielle Ausschreibung mit Bieterfrist. | Link: https://ausschreibungsradar.com/ausschreibung/52b168de-58d4-4e1a-be62-60987bb80f2e/
URL:https://ausschreibungsradar.com/ausschreibung/52b168de-58d4-4e1a-be62-60987bb80f2e/
END:VEVENT
END:VCALENDAR
