BEGIN:VCALENDAR
VERSION:2.0
PRODID:-//AusschreibungsRadar//Timeline//DE
CALSCALE:GREGORIAN
METHOD:PUBLISH
X-WR-CALNAME:Projekt KWM / Maler-, Lackier- und Tapezierarbeiten St. Marien-Krank
X-WR-TIMEZONE:Europe/Berlin
BEGIN:VEVENT
UID:372ed08b49c701f4@ausschreibungsradar.com
DTSTAMP:20260425T234020Z
DTSTART;VALUE=DATE:20240531
DTEND;VALUE=DATE:20240531
SUMMARY:Angebotsfrist — KWM / Maler-\, Lackier- und Tapezierarbeiten St. Marien-Krank
DESCRIPTION:Phase: Ausschreibung | Beschreibung: Angebote werden eingeholt | Link: https://ausschreibungsradar.com/ausschreibung/fbc07cbe-7d16-4cd0-852d-882bdaf4dc4b/
URL:https://ausschreibungsradar.com/ausschreibung/fbc07cbe-7d16-4cd0-852d-882bdaf4dc4b/
END:VEVENT
BEGIN:VEVENT
UID:a5cadaed97850980@ausschreibungsradar.com
DTSTAMP:20260425T234020Z
DTSTART;VALUE=DATE:20240502
DTEND;VALUE=DATE:20240502
SUMMARY:Ausschreibung — KWM / Maler-\, Lackier- und Tapezierarbeiten St. Marien-Krank
DESCRIPTION:Phase: Ausschreibung | Beschreibung: Offizielle Ausschreibung mit Bieterfrist. | Link: https://ausschreibungsradar.com/ausschreibung/ted-262321-2024/
URL:https://ausschreibungsradar.com/ausschreibung/ted-262321-2024/
END:VEVENT
BEGIN:VEVENT
UID:f8cadb8dee4fee86@ausschreibungsradar.com
DTSTAMP:20260425T234020Z
DTSTART;VALUE=DATE:20240909
DTEND;VALUE=DATE:20240909
SUMMARY:Vergabeergebnis — KWM / Maler-\, Lackier- und Tapezierarbeiten St. Marien-Krank
DESCRIPTION:Phase: Vergabeergebnis | Beschreibung: Auftrag wurde zugeschlagen | Link: https://ausschreibungsradar.com/ausschreibung/2d142055-4ff7-4804-9a75-1600cbbcefc0/
URL:https://ausschreibungsradar.com/ausschreibung/2d142055-4ff7-4804-9a75-1600cbbcefc0/
END:VEVENT
END:VCALENDAR
