BEGIN:VCALENDAR
VERSION:2.0
PRODID:-//AusschreibungsRadar//Timeline//DE
CALSCALE:GREGORIAN
METHOD:PUBLISH
X-WR-CALNAME:Projekt Neubau Verwaltungsgebäude Landratsamt Rottweil - Pfosten-Rie
X-WR-TIMEZONE:Europe/Berlin
BEGIN:VEVENT
UID:8dc4966e9bc0662f@ausschreibungsradar.com
DTSTAMP:20260424T184725Z
DTSTART;VALUE=DATE:20251030
DTEND;VALUE=DATE:20251030
SUMMARY:Angebotsfrist — Neubau Verwaltungsgebäude Landratsamt Rottweil - Pfosten-Rie
DESCRIPTION:Phase: Ausschreibung | Beschreibung: Angebote werden eingeholt | Link: https://ausschreibungsradar.com/ausschreibung/fc40d735-98a4-4d29-b0db-2018d0193287/
URL:https://ausschreibungsradar.com/ausschreibung/fc40d735-98a4-4d29-b0db-2018d0193287/
END:VEVENT
BEGIN:VEVENT
UID:1c7a661a546423be@ausschreibungsradar.com
DTSTAMP:20260424T184725Z
DTSTART;VALUE=DATE:20250918
DTEND;VALUE=DATE:20250918
SUMMARY:Ausschreibung — Neubau Verwaltungsgebäude Landratsamt Rottweil - Pfosten-Rie
DESCRIPTION:Phase: Ausschreibung | Beschreibung: Offizielle Ausschreibung mit Bieterfrist. | Link: https://ausschreibungsradar.com/ausschreibung/b0591896-5171-4310-b142-43b7de8226f5/
URL:https://ausschreibungsradar.com/ausschreibung/b0591896-5171-4310-b142-43b7de8226f5/
END:VEVENT
BEGIN:VEVENT
UID:fcec34c7df9f4c4f@ausschreibungsradar.com
DTSTAMP:20260424T184725Z
DTSTART;VALUE=DATE:20250918
DTEND;VALUE=DATE:20250918
SUMMARY:Ausschreibung — Neubau Verwaltungsgebäude Landratsamt Rottweil - Pfosten-Rie
DESCRIPTION:Phase: Ausschreibung | Beschreibung: Offizielle Ausschreibung mit Bieterfrist. | Link: https://ausschreibungsradar.com/ausschreibung/2d71f14f-dd8a-4e25-b705-c9ae56b645f9/
URL:https://ausschreibungsradar.com/ausschreibung/2d71f14f-dd8a-4e25-b705-c9ae56b645f9/
END:VEVENT
BEGIN:VEVENT
UID:d0a13eb333af1517@ausschreibungsradar.com
DTSTAMP:20260424T184725Z
DTSTART;VALUE=DATE:20251009
DTEND;VALUE=DATE:20251009
SUMMARY:Zuschlag — Neubau Verwaltungsgebäude Landratsamt Rottweil - Pfosten-Rie
DESCRIPTION:Phase: Zuschlag | Beschreibung: Vergabeergebnis — Auftrag wurde erteilt oder Verfahren beendet. | Link: https://ausschreibungsradar.com/ausschreibung/a886773e-17ed-4ce6-b570-a0623813d80e/
URL:https://ausschreibungsradar.com/ausschreibung/a886773e-17ed-4ce6-b570-a0623813d80e/
END:VEVENT
BEGIN:VEVENT
UID:97ebca553ad9a2d0@ausschreibungsradar.com
DTSTAMP:20260424T184725Z
DTSTART;VALUE=DATE:20251215
DTEND;VALUE=DATE:20251215
SUMMARY:Vergabeergebnis — Neubau Verwaltungsgebäude Landratsamt Rottweil - Pfosten-Rie
DESCRIPTION:Phase: Vergabeergebnis | Beschreibung: Auftrag wurde zugeschlagen | Link: https://ausschreibungsradar.com/ausschreibung/4e00ce25-c601-4e64-8d39-081b41db2fd1/
URL:https://ausschreibungsradar.com/ausschreibung/4e00ce25-c601-4e64-8d39-081b41db2fd1/
END:VEVENT
END:VCALENDAR
