BEGIN:VCALENDAR
VERSION:2.0
PRODID:-//AusschreibungsRadar//Timeline//DE
CALSCALE:GREGORIAN
METHOD:PUBLISH
X-WR-CALNAME:Projekt Landschaftsbauarbeiten
X-WR-TIMEZONE:Europe/Berlin
BEGIN:VEVENT
UID:ef3ec256eadfb176@ausschreibungsradar.com
DTSTAMP:20260425T181202Z
DTSTART;VALUE=DATE:20250401
DTEND;VALUE=DATE:20250401
SUMMARY:Angebotsfrist — Landschaftsbauarbeiten
DESCRIPTION:Phase: Ausschreibung | Beschreibung: Angebote werden eingeholt | Link: https://ausschreibungsradar.com/ausschreibung/5e527792-9b96-433e-8150-fefc9ea731a3/
URL:https://ausschreibungsradar.com/ausschreibung/5e527792-9b96-433e-8150-fefc9ea731a3/
END:VEVENT
BEGIN:VEVENT
UID:6696bcb88e7fc956@ausschreibungsradar.com
DTSTAMP:20260425T181202Z
DTSTART;VALUE=DATE:20250520
DTEND;VALUE=DATE:20250520
SUMMARY:Vergabeergebnis — Landschaftsbauarbeiten
DESCRIPTION:Phase: Vergabeergebnis | Beschreibung: Auftrag wurde zugeschlagen | Link: https://ausschreibungsradar.com/ausschreibung/fe3c0d93-1e3d-44c2-9925-ceab3be98ca5/ | Auftragnehmer: LaWeGa GmbH
URL:https://ausschreibungsradar.com/ausschreibung/fe3c0d93-1e3d-44c2-9925-ceab3be98ca5/
END:VEVENT
END:VCALENDAR
