BEGIN:VCALENDAR
VERSION:2.0
PRODID:-//AusschreibungsRadar//Timeline//DE
CALSCALE:GREGORIAN
METHOD:PUBLISH
X-WR-CALNAME:Projekt Erweiterung Gymnasium Dahlmannschule in Bad Segeberg - Nicht
X-WR-TIMEZONE:Europe/Berlin
BEGIN:VEVENT
UID:de4527a11a45635a@ausschreibungsradar.com
DTSTAMP:20260424T183308Z
DTSTART;VALUE=DATE:20240620
DTEND;VALUE=DATE:20240620
SUMMARY:Ausschreibung — Erweiterung Gymnasium Dahlmannschule in Bad Segeberg - Nicht
DESCRIPTION:Phase: Ausschreibung | Beschreibung: Angebote werden eingeholt | Link: https://ausschreibungsradar.com/ausschreibung/fe3d9459-968a-4634-a54f-b06ea7e155a4/
URL:https://ausschreibungsradar.com/ausschreibung/fe3d9459-968a-4634-a54f-b06ea7e155a4/
END:VEVENT
BEGIN:VEVENT
UID:fa3ec58fa1f92a4c@ausschreibungsradar.com
DTSTAMP:20260424T183308Z
DTSTART;VALUE=DATE:20251125
DTEND;VALUE=DATE:20251125
SUMMARY:Vergabeergebnis — Erweiterung Gymnasium Dahlmannschule in Bad Segeberg - Nicht
DESCRIPTION:Phase: Vergabeergebnis | Beschreibung: Auftrag wurde zugeschlagen | Link: https://ausschreibungsradar.com/ausschreibung/32fdb4db-7c20-424f-9b7c-23ba9fc0b7f8/
URL:https://ausschreibungsradar.com/ausschreibung/32fdb4db-7c20-424f-9b7c-23ba9fc0b7f8/
END:VEVENT
END:VCALENDAR
