BEGIN:VCALENDAR
VERSION:2.0
PRODID:-//AusschreibungsRadar//Timeline//DE
CALSCALE:GREGORIAN
METHOD:PUBLISH
X-WR-CALNAME:Projekt Elektroinstallation
X-WR-TIMEZONE:Europe/Berlin
BEGIN:VEVENT
UID:ca19e7c55728dfe8@ausschreibungsradar.com
DTSTAMP:20260423T224641Z
DTSTART;VALUE=DATE:20251014
DTEND;VALUE=DATE:20251014
SUMMARY:Angebotsfrist — Elektroinstallation
DESCRIPTION:Phase: Ausschreibung | Beschreibung: Angebote werden eingeholt | Link: https://ausschreibungsradar.com/ausschreibung/feaa1c6b-d7a8-4f8a-9382-b63013df9d47/
URL:https://ausschreibungsradar.com/ausschreibung/feaa1c6b-d7a8-4f8a-9382-b63013df9d47/
END:VEVENT
BEGIN:VEVENT
UID:77a944df26932778@ausschreibungsradar.com
DTSTAMP:20260423T224641Z
DTSTART;VALUE=DATE:20251202
DTEND;VALUE=DATE:20251202
SUMMARY:Vergabeergebnis — Elektroinstallation
DESCRIPTION:Phase: Vergabeergebnis | Beschreibung: Auftrag wurde zugeschlagen | Link: https://ausschreibungsradar.com/ausschreibung/ff96faa9-596f-4ee7-a668-ad6f38963b14/
URL:https://ausschreibungsradar.com/ausschreibung/ff96faa9-596f-4ee7-a668-ad6f38963b14/
END:VEVENT
END:VCALENDAR
