BEGIN:VCALENDAR
VERSION:2.0
PRODID:-//AusschreibungsRadar//Timeline//DE
CALSCALE:GREGORIAN
METHOD:PUBLISH
X-WR-CALNAME:Projekt Vergabe von Fachplanungsleistungen Tragwerksplanung (§§ 49 f
X-WR-TIMEZONE:Europe/Berlin
BEGIN:VEVENT
UID:156ab56d150df5b0@ausschreibungsradar.com
DTSTAMP:20260425T135128Z
DTSTART;VALUE=DATE:20240115
DTEND;VALUE=DATE:20240115
SUMMARY:Ausschreibung — Vergabe von Fachplanungsleistungen Tragwerksplanung (§§ 49 f
DESCRIPTION:Phase: Ausschreibung | Beschreibung: Angebote werden eingeholt | Link: https://ausschreibungsradar.com/ausschreibung/8b62af08-22f9-4a18-b0bc-c1a0ec2852b8/ | Geschätzter Wert: 10981000 €
URL:https://ausschreibungsradar.com/ausschreibung/8b62af08-22f9-4a18-b0bc-c1a0ec2852b8/
END:VEVENT
BEGIN:VEVENT
UID:45e72809df8d6637@ausschreibungsradar.com
DTSTAMP:20260425T135128Z
DTSTART;VALUE=DATE:20260319
DTEND;VALUE=DATE:20260319
SUMMARY:Vergabeergebnis — Vergabe von Fachplanungsleistungen Tragwerksplanung (§§ 49 f
DESCRIPTION:Phase: Vergabeergebnis | Beschreibung: Auftrag wurde zugeschlagen | Link: https://ausschreibungsradar.com/ausschreibung/feb9616a-9f3e-41f5-9145-dc193adf4348/ | Geschätzter Wert: 10981000 €
URL:https://ausschreibungsradar.com/ausschreibung/feb9616a-9f3e-41f5-9145-dc193adf4348/
END:VEVENT
BEGIN:VEVENT
UID:a2745dce527ca990@ausschreibungsradar.com
DTSTAMP:20260425T135128Z
DTSTART;VALUE=DATE:20260319
DTEND;VALUE=DATE:20260319
SUMMARY:Zuschlag — Vergabe von Fachplanungsleistungen Tragwerksplanung (§§ 49 f
DESCRIPTION:Phase: Zuschlag | Beschreibung: Vergabeergebnis — Auftrag wurde erteilt oder Verfahren beendet. | Link: https://ausschreibungsradar.com/ausschreibung/ca5c26e5-2af4-4c5a-9252-ca59bfd7d70d/
URL:https://ausschreibungsradar.com/ausschreibung/ca5c26e5-2af4-4c5a-9252-ca59bfd7d70d/
END:VEVENT
END:VCALENDAR
