BEGIN:VCALENDAR
VERSION:2.0
PRODID:-//AusschreibungsRadar//Timeline//DE
CALSCALE:GREGORIAN
METHOD:PUBLISH
X-WR-CALNAME:Projekt Liefer- und Installationsleistung im Rahmen der Neuausstattu
X-WR-TIMEZONE:Europe/Berlin
BEGIN:VEVENT
UID:ab2de36ef1ccf704@ausschreibungsradar.com
DTSTAMP:20260424T151527Z
DTSTART;VALUE=DATE:20250728
DTEND;VALUE=DATE:20250728
SUMMARY:Angebotsfrist — Liefer- und Installationsleistung im Rahmen der Neuausstattu
DESCRIPTION:Phase: Ausschreibung | Beschreibung: Angebote werden eingeholt | Link: https://ausschreibungsradar.com/ausschreibung/fedea9d5-bbaa-46b0-b001-8abdf7443c93/
URL:https://ausschreibungsradar.com/ausschreibung/fedea9d5-bbaa-46b0-b001-8abdf7443c93/
END:VEVENT
END:VCALENDAR
