BEGIN:VCALENDAR
VERSION:2.0
PRODID:-//AusschreibungsRadar//Timeline//DE
CALSCALE:GREGORIAN
METHOD:PUBLISH
X-WR-CALNAME:Projekt Planungsleistungen für die Entwicklung eines Neubaugebiets "
X-WR-TIMEZONE:Europe/Berlin
BEGIN:VEVENT
UID:f6dbc4d40a27b222@ausschreibungsradar.com
DTSTAMP:20260425T154757Z
DTSTART;VALUE=DATE:20251217
DTEND;VALUE=DATE:20251217
SUMMARY:Ausschreibung — Planungsleistungen für die Entwicklung eines Neubaugebiets "
DESCRIPTION:Phase: Ausschreibung | Beschreibung: Angebote werden eingeholt | Link: https://ausschreibungsradar.com/ausschreibung/fefbdbcb-eda8-4064-8b18-e9b57eee6b21/
URL:https://ausschreibungsradar.com/ausschreibung/fefbdbcb-eda8-4064-8b18-e9b57eee6b21/
END:VEVENT
BEGIN:VEVENT
UID:dea6f151d3a2938c@ausschreibungsradar.com
DTSTAMP:20260425T154757Z
DTSTART;VALUE=DATE:20260226
DTEND;VALUE=DATE:20260226
SUMMARY:Vergabeergebnis — Planungsleistungen für die Entwicklung eines Neubaugebiets "
DESCRIPTION:Phase: Vergabeergebnis | Beschreibung: Alle Angebote ausgeschlossen | Link: https://ausschreibungsradar.com/ausschreibung/84f03a2b-2902-4729-b2a5-4017b611cce9/
URL:https://ausschreibungsradar.com/ausschreibung/84f03a2b-2902-4729-b2a5-4017b611cce9/
END:VEVENT
END:VCALENDAR
