BEGIN:VCALENDAR
VERSION:2.0
PRODID:-//AusschreibungsRadar//Timeline//DE
CALSCALE:GREGORIAN
METHOD:PUBLISH
X-WR-CALNAME:Projekt Max-Planck-Institut für biologische Kybernetik in Tübingen-E
X-WR-TIMEZONE:Europe/Berlin
BEGIN:VEVENT
UID:66fffd1906909986@ausschreibungsradar.com
DTSTAMP:20260425T175601Z
DTSTART;VALUE=DATE:20260218
DTEND;VALUE=DATE:20260218
SUMMARY:Ausschreibung — Max-Planck-Institut für biologische Kybernetik in Tübingen-E
DESCRIPTION:Phase: Ausschreibung | Beschreibung: Offizielle Ausschreibung mit Bieterfrist. | Link: https://ausschreibungsradar.com/ausschreibung/f8e74953-c34b-4a04-9b45-88b8d440d42b/
URL:https://ausschreibungsradar.com/ausschreibung/f8e74953-c34b-4a04-9b45-88b8d440d42b/
END:VEVENT
BEGIN:VEVENT
UID:c5c08f77adb1ed0c@ausschreibungsradar.com
DTSTAMP:20260425T175601Z
DTSTART;VALUE=DATE:20260423
DTEND;VALUE=DATE:20260423
SUMMARY:Angebotsfrist — Max-Planck-Institut für biologische Kybernetik in Tübingen-E
DESCRIPTION:Phase: Ausschreibung | Beschreibung: Angebote werden eingeholt | Link: https://ausschreibungsradar.com/ausschreibung/ff05464e-8673-4d2d-8707-45913568a67f/
URL:https://ausschreibungsradar.com/ausschreibung/ff05464e-8673-4d2d-8707-45913568a67f/
END:VEVENT
BEGIN:VEVENT
UID:1c49d07f1edee94a@ausschreibungsradar.com
DTSTAMP:20260425T175601Z
DTSTART;VALUE=DATE:20260317
DTEND;VALUE=DATE:20260317
SUMMARY:Ausschreibung — Max-Planck-Institut für biologische Kybernetik in Tübingen-E
DESCRIPTION:Phase: Ausschreibung | Beschreibung: Offizielle Ausschreibung mit Bieterfrist. | Link: https://ausschreibungsradar.com/ausschreibung/ff50bed1-ff1a-4f18-867c-a4b5e4f4332a/
URL:https://ausschreibungsradar.com/ausschreibung/ff50bed1-ff1a-4f18-867c-a4b5e4f4332a/
END:VEVENT
END:VCALENDAR
