BEGIN:VCALENDAR
VERSION:2.0
PRODID:-//AusschreibungsRadar//Timeline//DE
CALSCALE:GREGORIAN
METHOD:PUBLISH
X-WR-CALNAME:Projekt Neubau Rettungszentrum Oberkochen - Bodenbeschichtung 
X-WR-TIMEZONE:Europe/Berlin
BEGIN:VEVENT
UID:b58fbf5fd44c527a@ausschreibungsradar.com
DTSTAMP:20260424T015428Z
DTSTART;VALUE=DATE:20251016
DTEND;VALUE=DATE:20251016
SUMMARY:Angebotsfrist — Neubau Rettungszentrum Oberkochen - Bodenbeschichtung 
DESCRIPTION:Phase: Ausschreibung | Beschreibung: Angebote werden eingeholt | Link: https://ausschreibungsradar.com/ausschreibung/ff327dd7-70b5-417f-85c8-77bf7d3288d0/
URL:https://ausschreibungsradar.com/ausschreibung/ff327dd7-70b5-417f-85c8-77bf7d3288d0/
END:VEVENT
BEGIN:VEVENT
UID:c9ef389ada57568c@ausschreibungsradar.com
DTSTAMP:20260424T015428Z
DTSTART;VALUE=DATE:20250915
DTEND;VALUE=DATE:20250915
SUMMARY:Ausschreibung — Neubau Rettungszentrum Oberkochen - Bodenbeschichtung 
DESCRIPTION:Phase: Ausschreibung | Beschreibung: Offizielle Ausschreibung mit Bieterfrist. | Link: https://ausschreibungsradar.com/ausschreibung/19da9145-dbd4-4fa8-9c73-e86a459c011d/
URL:https://ausschreibungsradar.com/ausschreibung/19da9145-dbd4-4fa8-9c73-e86a459c011d/
END:VEVENT
BEGIN:VEVENT
UID:7fafb93967b7c421@ausschreibungsradar.com
DTSTAMP:20260424T015428Z
DTSTART;VALUE=DATE:20250915
DTEND;VALUE=DATE:20250915
SUMMARY:Ausschreibung — Neubau Rettungszentrum Oberkochen - Bodenbeschichtung 
DESCRIPTION:Phase: Ausschreibung | Beschreibung: Offizielle Ausschreibung mit Bieterfrist. | Link: https://ausschreibungsradar.com/ausschreibung/8a62a5af-a35b-4934-acf7-7b109f33e4e1/
URL:https://ausschreibungsradar.com/ausschreibung/8a62a5af-a35b-4934-acf7-7b109f33e4e1/
END:VEVENT
BEGIN:VEVENT
UID:d410677c96f80204@ausschreibungsradar.com
DTSTAMP:20260424T015428Z
DTSTART;VALUE=DATE:20250915
DTEND;VALUE=DATE:20250915
SUMMARY:Ausschreibung — Neubau Rettungszentrum Oberkochen - Bodenbeschichtung 
DESCRIPTION:Phase: Ausschreibung | Beschreibung: Offizielle Ausschreibung mit Bieterfrist. | Link: https://ausschreibungsradar.com/ausschreibung/1c094088-bfcb-45e2-93a4-e1bd4bc48567/
URL:https://ausschreibungsradar.com/ausschreibung/1c094088-bfcb-45e2-93a4-e1bd4bc48567/
END:VEVENT
BEGIN:VEVENT
UID:7514b0516d454444@ausschreibungsradar.com
DTSTAMP:20260424T015428Z
DTSTART;VALUE=DATE:20250915
DTEND;VALUE=DATE:20250915
SUMMARY:Ausschreibung — Neubau Rettungszentrum Oberkochen - Bodenbeschichtung 
DESCRIPTION:Phase: Ausschreibung | Beschreibung: Offizielle Ausschreibung mit Bieterfrist. | Link: https://ausschreibungsradar.com/ausschreibung/79d56eb5-1b6a-4b27-9b21-feda5630eae7/
URL:https://ausschreibungsradar.com/ausschreibung/79d56eb5-1b6a-4b27-9b21-feda5630eae7/
END:VEVENT
BEGIN:VEVENT
UID:19ad6815c2bd5727@ausschreibungsradar.com
DTSTAMP:20260424T015428Z
DTSTART;VALUE=DATE:20260306
DTEND;VALUE=DATE:20260306
SUMMARY:Vergabeergebnis — Neubau Rettungszentrum Oberkochen - Bodenbeschichtung 
DESCRIPTION:Phase: Vergabeergebnis | Beschreibung: Auftrag wurde zugeschlagen | Link: https://ausschreibungsradar.com/ausschreibung/11c56087-1b6b-4567-a2be-4c2c88b2b040/
URL:https://ausschreibungsradar.com/ausschreibung/11c56087-1b6b-4567-a2be-4c2c88b2b040/
END:VEVENT
END:VCALENDAR
