BEGIN:VCALENDAR
VERSION:2.0
PRODID:-//AusschreibungsRadar//Timeline//DE
CALSCALE:GREGORIAN
METHOD:PUBLISH
X-WR-CALNAME:Projekt Rahmenvereinbarung Umbau / Sanierung Gebäudebestand Klinikum
X-WR-TIMEZONE:Europe/Berlin
BEGIN:VEVENT
UID:c0e1daf6fa7e5859@ausschreibungsradar.com
DTSTAMP:20260424T024430Z
DTSTART;VALUE=DATE:20250803
DTEND;VALUE=DATE:20250803
SUMMARY:Ausschreibung — Rahmenvereinbarung Umbau / Sanierung Gebäudebestand Klinikum
DESCRIPTION:Phase: Ausschreibung | Beschreibung: Offizielle Ausschreibung mit Bieterfrist. | Link: https://ausschreibungsradar.com/ausschreibung/80a438e4-03ec-4345-afc0-7366341cf94b/
URL:https://ausschreibungsradar.com/ausschreibung/80a438e4-03ec-4345-afc0-7366341cf94b/
END:VEVENT
BEGIN:VEVENT
UID:f8cce601c492d4fe@ausschreibungsradar.com
DTSTAMP:20260424T024430Z
DTSTART;VALUE=DATE:20250806
DTEND;VALUE=DATE:20250806
SUMMARY:Ausschreibung — Rahmenvereinbarung Umbau / Sanierung Gebäudebestand Klinikum
DESCRIPTION:Phase: Ausschreibung | Beschreibung: Angebote werden eingeholt | Link: https://ausschreibungsradar.com/ausschreibung/ff41fbce-974d-4b52-8cfd-1f5bd6780f51/
URL:https://ausschreibungsradar.com/ausschreibung/ff41fbce-974d-4b52-8cfd-1f5bd6780f51/
END:VEVENT
BEGIN:VEVENT
UID:2f666158b73ac643@ausschreibungsradar.com
DTSTAMP:20260424T024430Z
DTSTART;VALUE=DATE:20250806
DTEND;VALUE=DATE:20250806
SUMMARY:Ausschreibung — Rahmenvereinbarung Umbau / Sanierung Gebäudebestand Klinikum
DESCRIPTION:Phase: Ausschreibung | Beschreibung: Offizielle Ausschreibung mit Bieterfrist. | Link: https://ausschreibungsradar.com/ausschreibung/f17a2271-990f-4a21-84ae-d457c81fee4b/
URL:https://ausschreibungsradar.com/ausschreibung/f17a2271-990f-4a21-84ae-d457c81fee4b/
END:VEVENT
BEGIN:VEVENT
UID:e7092eb0b3912ee9@ausschreibungsradar.com
DTSTAMP:20260424T024430Z
DTSTART;VALUE=DATE:20260108
DTEND;VALUE=DATE:20260108
SUMMARY:Vergabeergebnis — Rahmenvereinbarung Umbau / Sanierung Gebäudebestand Klinikum
DESCRIPTION:Phase: Vergabeergebnis | Beschreibung: Auftrag wurde zugeschlagen | Link: https://ausschreibungsradar.com/ausschreibung/642e824e-a4d7-4040-9f44-af96f5856310/
URL:https://ausschreibungsradar.com/ausschreibung/642e824e-a4d7-4040-9f44-af96f5856310/
END:VEVENT
END:VCALENDAR
