BEGIN:VCALENDAR
VERSION:2.0
PRODID:-//AusschreibungsRadar//Timeline//DE
CALSCALE:GREGORIAN
METHOD:PUBLISH
X-WR-CALNAME:Projekt Tischlerarbeiten - Feuerwehrtechnische Zentrale
X-WR-TIMEZONE:Europe/Berlin
BEGIN:VEVENT
UID:44df2b59fd660cf9@ausschreibungsradar.com
DTSTAMP:20260424T023913Z
DTSTART;VALUE=DATE:20251210
DTEND;VALUE=DATE:20251210
SUMMARY:Zuschlag — Tischlerarbeiten - Feuerwehrtechnische Zentrale
DESCRIPTION:Phase: Zuschlag | Beschreibung: Vergabeergebnis — Auftrag wurde erteilt oder Verfahren beendet. | Link: https://ausschreibungsradar.com/ausschreibung/b56901d2-d707-4144-8cf4-4408eb6ab1cf/
URL:https://ausschreibungsradar.com/ausschreibung/b56901d2-d707-4144-8cf4-4408eb6ab1cf/
END:VEVENT
BEGIN:VEVENT
UID:9fdfa85653ad073d@ausschreibungsradar.com
DTSTAMP:20260424T023913Z
DTSTART;VALUE=DATE:20251218
DTEND;VALUE=DATE:20251218
SUMMARY:Ausschreibung — Tischlerarbeiten - Feuerwehrtechnische Zentrale
DESCRIPTION:Phase: Ausschreibung | Beschreibung: Angebote werden eingeholt | Link: https://ausschreibungsradar.com/ausschreibung/ffc5b72b-9e5f-41db-b81d-5779419f72b6/
URL:https://ausschreibungsradar.com/ausschreibung/ffc5b72b-9e5f-41db-b81d-5779419f72b6/
END:VEVENT
BEGIN:VEVENT
UID:978e51ad1c625cb7@ausschreibungsradar.com
DTSTAMP:20260424T023913Z
DTSTART;VALUE=DATE:20260113
DTEND;VALUE=DATE:20260113
SUMMARY:Ausschreibung — Tischlerarbeiten - Feuerwehrtechnische Zentrale
DESCRIPTION:Phase: Ausschreibung | Beschreibung: Offizielle Ausschreibung mit Bieterfrist. | Link: https://ausschreibungsradar.com/ausschreibung/39e3b0ef-74a4-4722-b35e-aeb518a35763/
URL:https://ausschreibungsradar.com/ausschreibung/39e3b0ef-74a4-4722-b35e-aeb518a35763/
END:VEVENT
BEGIN:VEVENT
UID:2fb0703825bb97d9@ausschreibungsradar.com
DTSTAMP:20260424T023913Z
DTSTART;VALUE=DATE:20260420
DTEND;VALUE=DATE:20260420
SUMMARY:Vergabeergebnis — Tischlerarbeiten - Feuerwehrtechnische Zentrale
DESCRIPTION:Phase: Vergabeergebnis | Beschreibung: Auftrag wurde zugeschlagen | Link: https://ausschreibungsradar.com/ausschreibung/e3d545f5-4e4c-424a-b5ae-cb239855d467/
URL:https://ausschreibungsradar.com/ausschreibung/e3d545f5-4e4c-424a-b5ae-cb239855d467/
END:VEVENT
END:VCALENDAR
