BEGIN:VCALENDAR
VERSION:2.0
PRODID:-//AusschreibungsRadar//Timeline//DE
CALSCALE:GREGORIAN
METHOD:PUBLISH
X-WR-CALNAME:Projekt Rahmenvereinbarung über Bauleistungen an Gasleitungen sowie 
X-WR-TIMEZONE:Europe/Berlin
BEGIN:VEVENT
UID:0ac4eff602f1b4b4@ausschreibungsradar.com
DTSTAMP:20260425T140927Z
DTSTART;VALUE=DATE:20250713
DTEND;VALUE=DATE:20250713
SUMMARY:Ausschreibung — Rahmenvereinbarung über Bauleistungen an Gasleitungen sowie 
DESCRIPTION:Phase: Ausschreibung | Beschreibung: Angebote werden eingeholt | Link: https://ausschreibungsradar.com/ausschreibung/ffcbab0c-e6ec-4dcc-a9bc-2846543d82d3/
URL:https://ausschreibungsradar.com/ausschreibung/ffcbab0c-e6ec-4dcc-a9bc-2846543d82d3/
END:VEVENT
BEGIN:VEVENT
UID:75161c4e0a03109b@ausschreibungsradar.com
DTSTAMP:20260425T140927Z
DTSTART;VALUE=DATE:20260212
DTEND;VALUE=DATE:20260212
SUMMARY:Vergabeergebnis — Rahmenvereinbarung über Bauleistungen an Gasleitungen sowie 
DESCRIPTION:Phase: Vergabeergebnis | Beschreibung: Auftrag wurde zugeschlagen | Link: https://ausschreibungsradar.com/ausschreibung/c6b03dae-e4cb-4d84-b3c9-add4a7e5a52d/
URL:https://ausschreibungsradar.com/ausschreibung/c6b03dae-e4cb-4d84-b3c9-add4a7e5a52d/
END:VEVENT
END:VCALENDAR
