BEGIN:VCALENDAR
VERSION:2.0
PRODID:-//AusschreibungsRadar//Timeline//DE
CALSCALE:GREGORIAN
METHOD:PUBLISH
X-WR-CALNAME:Projekt Neubau einer 3-fach-Sporthalle am Gymnasium Georgianum Vrede
X-WR-TIMEZONE:Europe/Berlin
BEGIN:VEVENT
UID:32ba5dc6ff7cc328@ausschreibungsradar.com
DTSTAMP:20260425T162535Z
DTSTART;VALUE=DATE:20250704
DTEND;VALUE=DATE:20250704
SUMMARY:Ausschreibung — Neubau einer 3-fach-Sporthalle am Gymnasium Georgianum Vrede
DESCRIPTION:Phase: Ausschreibung | Beschreibung: Offizielle Ausschreibung mit Bieterfrist. | Link: https://ausschreibungsradar.com/ausschreibung/fdcaa1b0-567f-4e4c-ac6e-50daa36700e3/
URL:https://ausschreibungsradar.com/ausschreibung/fdcaa1b0-567f-4e4c-ac6e-50daa36700e3/
END:VEVENT
BEGIN:VEVENT
UID:9cdb4442e79646e4@ausschreibungsradar.com
DTSTAMP:20260425T162535Z
DTSTART;VALUE=DATE:20250820
DTEND;VALUE=DATE:20250820
SUMMARY:Angebotsfrist — Neubau einer 3-fach-Sporthalle am Gymnasium Georgianum Vrede
DESCRIPTION:Phase: Ausschreibung | Beschreibung: Angebote werden eingeholt | Link: https://ausschreibungsradar.com/ausschreibung/ffcd36f6-c0dc-425b-94be-b862243dc323/
URL:https://ausschreibungsradar.com/ausschreibung/ffcd36f6-c0dc-425b-94be-b862243dc323/
END:VEVENT
BEGIN:VEVENT
UID:bdb3c3f2db3f7e99@ausschreibungsradar.com
DTSTAMP:20260425T162535Z
DTSTART;VALUE=DATE:20250721
DTEND;VALUE=DATE:20250721
SUMMARY:Zuschlag — Neubau einer 3-fach-Sporthalle am Gymnasium Georgianum Vrede
DESCRIPTION:Phase: Zuschlag | Beschreibung: Vergabeergebnis — Auftrag wurde erteilt oder Verfahren beendet. | Link: https://ausschreibungsradar.com/ausschreibung/62c48fa0-c113-4a94-91d1-45b0cd6651d7/
URL:https://ausschreibungsradar.com/ausschreibung/62c48fa0-c113-4a94-91d1-45b0cd6651d7/
END:VEVENT
BEGIN:VEVENT
UID:6a4b1e44825c0eac@ausschreibungsradar.com
DTSTAMP:20260425T162535Z
DTSTART;VALUE=DATE:20251112
DTEND;VALUE=DATE:20251112
SUMMARY:Vergabeergebnis — Neubau einer 3-fach-Sporthalle am Gymnasium Georgianum Vrede
DESCRIPTION:Phase: Vergabeergebnis | Beschreibung: Auftrag wurde zugeschlagen | Link: https://ausschreibungsradar.com/ausschreibung/d43e44cf-188e-404d-ba49-7f2959b17190/
URL:https://ausschreibungsradar.com/ausschreibung/d43e44cf-188e-404d-ba49-7f2959b17190/
END:VEVENT
END:VCALENDAR
