BEGIN:VCALENDAR
VERSION:2.0
PRODID:-//AusschreibungsRadar//Timeline//DE
CALSCALE:GREGORIAN
METHOD:PUBLISH
X-WR-CALNAME:Projekt Edelstahlarbeiten, Schwimmbadausstattung / Neubau Kombibad i
X-WR-TIMEZONE:Europe/Berlin
BEGIN:VEVENT
UID:987f54569414ea2d@ausschreibungsradar.com
DTSTAMP:20260424T172243Z
DTSTART;VALUE=DATE:20250728
DTEND;VALUE=DATE:20250728
SUMMARY:Angebotsfrist — Edelstahlarbeiten\, Schwimmbadausstattung / Neubau Kombibad i
DESCRIPTION:Phase: Ausschreibung | Beschreibung: Angebote werden eingeholt | Link: https://ausschreibungsradar.com/ausschreibung/ffce46dd-a8ed-459c-bd9f-7b95f8a81816/
URL:https://ausschreibungsradar.com/ausschreibung/ffce46dd-a8ed-459c-bd9f-7b95f8a81816/
END:VEVENT
BEGIN:VEVENT
UID:6d8e480fb5fba39d@ausschreibungsradar.com
DTSTAMP:20260424T172243Z
DTSTART;VALUE=DATE:20250915
DTEND;VALUE=DATE:20250915
SUMMARY:Vergabeergebnis — Edelstahlarbeiten\, Schwimmbadausstattung / Neubau Kombibad i
DESCRIPTION:Phase: Vergabeergebnis | Beschreibung: Auftrag wurde zugeschlagen | Link: https://ausschreibungsradar.com/ausschreibung/4b8b5346-58e2-4d46-97a3-2a5a95d7bcc6/
URL:https://ausschreibungsradar.com/ausschreibung/4b8b5346-58e2-4d46-97a3-2a5a95d7bcc6/
END:VEVENT
END:VCALENDAR
