BEGIN:VCALENDAR
VERSION:2.0
PRODID:-//AusschreibungsRadar//Timeline//DE
CALSCALE:GREGORIAN
METHOD:PUBLISH
X-WR-CALNAME:Projekt Deutschland – Bauarbeiten – Totalunternehmer
X-WR-TIMEZONE:Europe/Berlin
BEGIN:VEVENT
UID:d1d4bdee65f95fc8@ausschreibungsradar.com
DTSTAMP:20260425T134817Z
DTSTART;VALUE=DATE:20240219
DTEND;VALUE=DATE:20240219
SUMMARY:Ausschreibung — Deutschland – Bauarbeiten – Totalunternehmer
DESCRIPTION:Phase: Ausschreibung | Beschreibung: Offizielle Ausschreibung mit Bieterfrist. | Link: https://ausschreibungsradar.com/ausschreibung/ted-101229-2024/
URL:https://ausschreibungsradar.com/ausschreibung/ted-101229-2024/
END:VEVENT
BEGIN:VEVENT
UID:324197a449300f55@ausschreibungsradar.com
DTSTAMP:20260425T134817Z
DTSTART;VALUE=DATE:20240220
DTEND;VALUE=DATE:20240220
SUMMARY:Ausschreibung — Deutschland – Bauarbeiten – Totalunternehmer
DESCRIPTION:Phase: Ausschreibung | Beschreibung: Offizielle Ausschreibung mit Bieterfrist. | Link: https://ausschreibungsradar.com/ausschreibung/ted-104370-2024/
URL:https://ausschreibungsradar.com/ausschreibung/ted-104370-2024/
END:VEVENT
END:VCALENDAR
