BEGIN:VCALENDAR
VERSION:2.0
PRODID:-//AusschreibungsRadar//Timeline//DE
CALSCALE:GREGORIAN
METHOD:PUBLISH
X-WR-CALNAME:Projekt Deutschland – Dienstleistungen von Architektur-, Konstruktio
X-WR-TIMEZONE:Europe/Berlin
BEGIN:VEVENT
UID:5eebc6459f3b0baa@ausschreibungsradar.com
DTSTAMP:20260426T032418Z
DTSTART;VALUE=DATE:20240109
DTEND;VALUE=DATE:20240109
SUMMARY:Ausschreibung — Deutschland – Dienstleistungen von Architektur-\, Konstruktio
DESCRIPTION:Phase: Ausschreibung | Beschreibung: Offizielle Ausschreibung mit Bieterfrist. | Link: https://ausschreibungsradar.com/ausschreibung/ted-13755-2024/
URL:https://ausschreibungsradar.com/ausschreibung/ted-13755-2024/
END:VEVENT
BEGIN:VEVENT
UID:06af5db447462d9c@ausschreibungsradar.com
DTSTAMP:20260426T032418Z
DTSTART;VALUE=DATE:20240109
DTEND;VALUE=DATE:20240109
SUMMARY:Ausschreibung — Deutschland – Dienstleistungen von Architektur-\, Konstruktio
DESCRIPTION:Phase: Ausschreibung | Beschreibung: Offizielle Ausschreibung mit Bieterfrist. | Link: https://ausschreibungsradar.com/ausschreibung/ted-13250-2024/
URL:https://ausschreibungsradar.com/ausschreibung/ted-13250-2024/
END:VEVENT
END:VCALENDAR
