BEGIN:VCALENDAR
VERSION:2.0
PRODID:-//AusschreibungsRadar//Timeline//DE
CALSCALE:GREGORIAN
METHOD:PUBLISH
X-WR-CALNAME:Projekt Deutschland – Bauarbeiten – Integratives Sozialgebäude @Vied
X-WR-TIMEZONE:Europe/Berlin
BEGIN:VEVENT
UID:4559586af6375e2f@ausschreibungsradar.com
DTSTAMP:20260425T214816Z
DTSTART;VALUE=DATE:20240306
DTEND;VALUE=DATE:20240306
SUMMARY:Zuschlag — Deutschland – Bauarbeiten – Integratives Sozialgebäude @Vied
DESCRIPTION:Phase: Zuschlag | Beschreibung: Vergabeergebnis — Auftrag wurde erteilt oder Verfahren beendet. | Link: https://ausschreibungsradar.com/ausschreibung/3a3d6ec6-a3fc-4787-8169-b7cea5d209b0/
URL:https://ausschreibungsradar.com/ausschreibung/3a3d6ec6-a3fc-4787-8169-b7cea5d209b0/
END:VEVENT
BEGIN:VEVENT
UID:4f203f0ecdb1c3ae@ausschreibungsradar.com
DTSTAMP:20260425T214816Z
DTSTART;VALUE=DATE:20240307
DTEND;VALUE=DATE:20240307
SUMMARY:Zuschlag — Deutschland – Bauarbeiten – Integratives Sozialgebäude @Vied
DESCRIPTION:Phase: Zuschlag | Beschreibung: Vergabeergebnis — Auftrag wurde erteilt oder Verfahren beendet. | Link: https://ausschreibungsradar.com/ausschreibung/ted-141230-2024/ | Geschätzter Wert: 2106683 €
URL:https://ausschreibungsradar.com/ausschreibung/ted-141230-2024/
END:VEVENT
END:VCALENDAR
