BEGIN:VCALENDAR
VERSION:2.0
PRODID:-//AusschreibungsRadar//Timeline//DE
CALSCALE:GREGORIAN
METHOD:PUBLISH
X-WR-CALNAME:Projekt Deutschland – Dienstleistungen von Architektur-, Konstruktio
X-WR-TIMEZONE:Europe/Berlin
BEGIN:VEVENT
UID:8ad3e81968d6c91d@ausschreibungsradar.com
DTSTAMP:20260425T214826Z
DTSTART;VALUE=DATE:20240110
DTEND;VALUE=DATE:20240110
SUMMARY:Ausschreibung — Deutschland – Dienstleistungen von Architektur-\, Konstruktio
DESCRIPTION:Phase: Ausschreibung | Beschreibung: Offizielle Ausschreibung mit Bieterfrist. | Link: https://ausschreibungsradar.com/ausschreibung/810e116b-59fb-45d7-b0cb-7699aa5cd401/
URL:https://ausschreibungsradar.com/ausschreibung/810e116b-59fb-45d7-b0cb-7699aa5cd401/
END:VEVENT
BEGIN:VEVENT
UID:1fa2ae2b53fcdd5f@ausschreibungsradar.com
DTSTAMP:20260425T214826Z
DTSTART;VALUE=DATE:20240111
DTEND;VALUE=DATE:20240111
SUMMARY:Ausschreibung — Deutschland – Dienstleistungen von Architektur-\, Konstruktio
DESCRIPTION:Phase: Ausschreibung | Beschreibung: Offizielle Ausschreibung mit Bieterfrist. | Link: https://ausschreibungsradar.com/ausschreibung/ted-17603-2024/
URL:https://ausschreibungsradar.com/ausschreibung/ted-17603-2024/
END:VEVENT
END:VCALENDAR
