BEGIN:VCALENDAR
VERSION:2.0
PRODID:-//AusschreibungsRadar//Timeline//DE
CALSCALE:GREGORIAN
METHOD:PUBLISH
X-WR-CALNAME:Projekt Deutschland – Dienstleistungen von Architektur- und Ingenieu
X-WR-TIMEZONE:Europe/Berlin
BEGIN:VEVENT
UID:835105f0ae6d2275@ausschreibungsradar.com
DTSTAMP:20260425T190505Z
DTSTART;VALUE=DATE:20240328
DTEND;VALUE=DATE:20240328
SUMMARY:Ausschreibung — Deutschland – Dienstleistungen von Architektur- und Ingenieu
DESCRIPTION:Phase: Ausschreibung | Beschreibung: Offizielle Ausschreibung mit Bieterfrist. | Link: https://ausschreibungsradar.com/ausschreibung/ted-185449-2024/
URL:https://ausschreibungsradar.com/ausschreibung/ted-185449-2024/
END:VEVENT
BEGIN:VEVENT
UID:3488bdee816038a0@ausschreibungsradar.com
DTSTAMP:20260425T190505Z
DTSTART;VALUE=DATE:20240329
DTEND;VALUE=DATE:20240329
SUMMARY:Ausschreibung — Deutschland – Dienstleistungen von Architektur- und Ingenieu
DESCRIPTION:Phase: Ausschreibung | Beschreibung: Offizielle Ausschreibung mit Bieterfrist. | Link: https://ausschreibungsradar.com/ausschreibung/ted-189331-2024/
URL:https://ausschreibungsradar.com/ausschreibung/ted-189331-2024/
END:VEVENT
END:VCALENDAR
