BEGIN:VCALENDAR
VERSION:2.0
PRODID:-//AusschreibungsRadar//Timeline//DE
CALSCALE:GREGORIAN
METHOD:PUBLISH
X-WR-CALNAME:Projekt Deutschland – Dienstleistungen im Gartenbau – Rahmenvereinba
X-WR-TIMEZONE:Europe/Berlin
BEGIN:VEVENT
UID:4f29d32cdefcfc96@ausschreibungsradar.com
DTSTAMP:20260425T214801Z
DTSTART;VALUE=DATE:20240330
DTEND;VALUE=DATE:20240330
SUMMARY:Ausschreibung — Deutschland – Dienstleistungen im Gartenbau – Rahmenvereinba
DESCRIPTION:Phase: Ausschreibung | Beschreibung: Offizielle Ausschreibung mit Bieterfrist. | Link: https://ausschreibungsradar.com/ausschreibung/e9a73d60-36db-4a7c-8f99-44966ce10b15/
URL:https://ausschreibungsradar.com/ausschreibung/e9a73d60-36db-4a7c-8f99-44966ce10b15/
END:VEVENT
BEGIN:VEVENT
UID:7125e2dfe5cec1be@ausschreibungsradar.com
DTSTAMP:20260425T214801Z
DTSTART;VALUE=DATE:20240402
DTEND;VALUE=DATE:20240402
SUMMARY:Ausschreibung — Deutschland – Dienstleistungen im Gartenbau – Rahmenvereinba
DESCRIPTION:Phase: Ausschreibung | Beschreibung: Offizielle Ausschreibung mit Bieterfrist. | Link: https://ausschreibungsradar.com/ausschreibung/ted-191994-2024/
URL:https://ausschreibungsradar.com/ausschreibung/ted-191994-2024/
END:VEVENT
END:VCALENDAR
