BEGIN:VCALENDAR
VERSION:2.0
PRODID:-//AusschreibungsRadar//Timeline//DE
CALSCALE:GREGORIAN
METHOD:PUBLISH
X-WR-CALNAME:Projekt Deutschland – Werbe- und Marketingdienstleistungen – Produkt
X-WR-TIMEZONE:Europe/Berlin
BEGIN:VEVENT
UID:739783a69229462a@ausschreibungsradar.com
DTSTAMP:20260424T043120Z
DTSTART;VALUE=DATE:20260404
DTEND;VALUE=DATE:20260404
SUMMARY:Ausschreibung — Deutschland – Werbe- und Marketingdienstleistungen – Produkt
DESCRIPTION:Phase: Ausschreibung | Beschreibung: Offizielle Ausschreibung mit Bieterfrist. | Link: https://ausschreibungsradar.com/ausschreibung/baf97c80-908d-4689-a3ce-ae5f579b52f9/
URL:https://ausschreibungsradar.com/ausschreibung/baf97c80-908d-4689-a3ce-ae5f579b52f9/
END:VEVENT
BEGIN:VEVENT
UID:f5b4aaba9a3acd7f@ausschreibungsradar.com
DTSTAMP:20260424T043120Z
DTSTART;VALUE=DATE:20260407
DTEND;VALUE=DATE:20260407
SUMMARY:Ausschreibung — Deutschland – Werbe- und Marketingdienstleistungen – Produkt
DESCRIPTION:Phase: Ausschreibung | Beschreibung: Offizielle Ausschreibung mit Bieterfrist. | Link: https://ausschreibungsradar.com/ausschreibung/ted-233943-2026/
URL:https://ausschreibungsradar.com/ausschreibung/ted-233943-2026/
END:VEVENT
END:VCALENDAR
