BEGIN:VCALENDAR
VERSION:2.0
PRODID:-//AusschreibungsRadar//Timeline//DE
CALSCALE:GREGORIAN
METHOD:PUBLISH
X-WR-CALNAME:Projekt Deutschland – Feuerwehrfahrzeuge – Lieferung eines Gerätewag
X-WR-TIMEZONE:Europe/Berlin
BEGIN:VEVENT
UID:deb3f1a9b0d29f8c@ausschreibungsradar.com
DTSTAMP:20260424T023754Z
DTSTART;VALUE=DATE:20260402
DTEND;VALUE=DATE:20260402
SUMMARY:Ausschreibung — Deutschland – Feuerwehrfahrzeuge – Lieferung eines Gerätewag
DESCRIPTION:Phase: Ausschreibung | Beschreibung: Offizielle Ausschreibung mit Bieterfrist. | Link: https://ausschreibungsradar.com/ausschreibung/9bbc7f06-bff3-4874-b297-ca1a2ce6ce50/
URL:https://ausschreibungsradar.com/ausschreibung/9bbc7f06-bff3-4874-b297-ca1a2ce6ce50/
END:VEVENT
BEGIN:VEVENT
UID:1656fee128b319b5@ausschreibungsradar.com
DTSTAMP:20260424T023754Z
DTSTART;VALUE=DATE:20260407
DTEND;VALUE=DATE:20260407
SUMMARY:Ausschreibung — Deutschland – Feuerwehrfahrzeuge – Lieferung eines Gerätewag
DESCRIPTION:Phase: Ausschreibung | Beschreibung: Offizielle Ausschreibung mit Bieterfrist. | Link: https://ausschreibungsradar.com/ausschreibung/ted-234633-2026/
URL:https://ausschreibungsradar.com/ausschreibung/ted-234633-2026/
END:VEVENT
END:VCALENDAR
