BEGIN:VCALENDAR
VERSION:2.0
PRODID:-//AusschreibungsRadar//Timeline//DE
CALSCALE:GREGORIAN
METHOD:PUBLISH
X-WR-CALNAME:Projekt Deutschland – Dienstleistungen von Architektur- und Ingenieu
X-WR-TIMEZONE:Europe/Berlin
BEGIN:VEVENT
UID:1945d331e644f06d@ausschreibungsradar.com
DTSTAMP:20260424T155344Z
DTSTART;VALUE=DATE:20260415
DTEND;VALUE=DATE:20260415
SUMMARY:Zuschlag — Deutschland – Dienstleistungen von Architektur- und Ingenieu
DESCRIPTION:Phase: Zuschlag | Beschreibung: Vergabeergebnis — Auftrag wurde erteilt oder Verfahren beendet. | Link: https://ausschreibungsradar.com/ausschreibung/88e43345-55e7-44cc-8a1c-b490b388f405/
URL:https://ausschreibungsradar.com/ausschreibung/88e43345-55e7-44cc-8a1c-b490b388f405/
END:VEVENT
BEGIN:VEVENT
UID:0ada3b0173e2f2d1@ausschreibungsradar.com
DTSTAMP:20260424T155344Z
DTSTART;VALUE=DATE:20260415
DTEND;VALUE=DATE:20260415
SUMMARY:Zuschlag — Deutschland – Dienstleistungen von Architektur- und Ingenieu
DESCRIPTION:Phase: Zuschlag | Beschreibung: Vergabeergebnis — Auftrag wurde erteilt oder Verfahren beendet. | Link: https://ausschreibungsradar.com/ausschreibung/78aa1426-2831-46de-9ed5-250d3b56ef9f/
URL:https://ausschreibungsradar.com/ausschreibung/78aa1426-2831-46de-9ed5-250d3b56ef9f/
END:VEVENT
BEGIN:VEVENT
UID:0e7798b64c89e91d@ausschreibungsradar.com
DTSTAMP:20260424T155344Z
DTSTART;VALUE=DATE:20260416
DTEND;VALUE=DATE:20260416
SUMMARY:Zuschlag — Deutschland – Dienstleistungen von Architektur- und Ingenieu
DESCRIPTION:Phase: Zuschlag | Beschreibung: Vergabeergebnis — Auftrag wurde erteilt oder Verfahren beendet. | Link: https://ausschreibungsradar.com/ausschreibung/8bc0befc-47ea-48e0-b704-740766eab981/
URL:https://ausschreibungsradar.com/ausschreibung/8bc0befc-47ea-48e0-b704-740766eab981/
END:VEVENT
BEGIN:VEVENT
UID:c85d03d5435680af@ausschreibungsradar.com
DTSTAMP:20260424T155344Z
DTSTART;VALUE=DATE:20260417
DTEND;VALUE=DATE:20260417
SUMMARY:Zuschlag — Deutschland – Dienstleistungen von Architektur- und Ingenieu
DESCRIPTION:Phase: Zuschlag | Beschreibung: Vergabeergebnis — Auftrag wurde erteilt oder Verfahren beendet. | Link: https://ausschreibungsradar.com/ausschreibung/ted-262737-2026/ | Geschätzter Wert: 83679514 €
URL:https://ausschreibungsradar.com/ausschreibung/ted-262737-2026/
END:VEVENT
BEGIN:VEVENT
UID:730dded91987741c@ausschreibungsradar.com
DTSTAMP:20260424T155344Z
DTSTART;VALUE=DATE:20260420
DTEND;VALUE=DATE:20260420
SUMMARY:Zuschlag — Deutschland – Dienstleistungen von Architektur- und Ingenieu
DESCRIPTION:Phase: Zuschlag | Beschreibung: Vergabeergebnis — Auftrag wurde erteilt oder Verfahren beendet. | Link: https://ausschreibungsradar.com/ausschreibung/ted-268529-2026/
URL:https://ausschreibungsradar.com/ausschreibung/ted-268529-2026/
END:VEVENT
BEGIN:VEVENT
UID:9fe7b212a6d0c835@ausschreibungsradar.com
DTSTAMP:20260424T155344Z
DTSTART;VALUE=DATE:20260420
DTEND;VALUE=DATE:20260420
SUMMARY:Zuschlag — Deutschland – Dienstleistungen von Architektur- und Ingenieu
DESCRIPTION:Phase: Zuschlag | Beschreibung: Vergabeergebnis — Auftrag wurde erteilt oder Verfahren beendet. | Link: https://ausschreibungsradar.com/ausschreibung/03736746-5582-473b-af14-efbe220496ed/
URL:https://ausschreibungsradar.com/ausschreibung/03736746-5582-473b-af14-efbe220496ed/
END:VEVENT
END:VCALENDAR
