BEGIN:VCALENDAR
VERSION:2.0
PRODID:-//AusschreibungsRadar//Timeline//DE
CALSCALE:GREGORIAN
METHOD:PUBLISH
X-WR-CALNAME:Projekt Deutschland – Bauarbeiten – Markterkundung zur Vorbereitung 
X-WR-TIMEZONE:Europe/Berlin
BEGIN:VEVENT
UID:a157b2a81e5580b9@ausschreibungsradar.com
DTSTAMP:20260424T042925Z
DTSTART;VALUE=DATE:20260415
DTEND;VALUE=DATE:20260415
SUMMARY:Ausschreibung — Deutschland – Bauarbeiten – Markterkundung zur Vorbereitung 
DESCRIPTION:Phase: Ausschreibung | Beschreibung: Offizielle Ausschreibung mit Bieterfrist. | Link: https://ausschreibungsradar.com/ausschreibung/1ba05d64-1e65-4479-9f67-b7d5a00a3522/
URL:https://ausschreibungsradar.com/ausschreibung/1ba05d64-1e65-4479-9f67-b7d5a00a3522/
END:VEVENT
BEGIN:VEVENT
UID:da8819066e70d379@ausschreibungsradar.com
DTSTAMP:20260424T042925Z
DTSTART;VALUE=DATE:20260417
DTEND;VALUE=DATE:20260417
SUMMARY:Ausschreibung — Deutschland – Bauarbeiten – Markterkundung zur Vorbereitung 
DESCRIPTION:Phase: Ausschreibung | Beschreibung: Offizielle Ausschreibung mit Bieterfrist. | Link: https://ausschreibungsradar.com/ausschreibung/ted-263024-2026/
URL:https://ausschreibungsradar.com/ausschreibung/ted-263024-2026/
END:VEVENT
END:VCALENDAR
