BEGIN:VCALENDAR
VERSION:2.0
PRODID:-//AusschreibungsRadar//Timeline//DE
CALSCALE:GREGORIAN
METHOD:PUBLISH
X-WR-CALNAME:Projekt Deutschland – Dienstleistungen von Architektur-, Konstruktio
X-WR-TIMEZONE:Europe/Berlin
BEGIN:VEVENT
UID:768abe0d7959fbad@ausschreibungsradar.com
DTSTAMP:20260426T004457Z
DTSTART;VALUE=DATE:20260416
DTEND;VALUE=DATE:20260416
SUMMARY:Ausschreibung — Deutschland – Dienstleistungen von Architektur-\, Konstruktio
DESCRIPTION:Phase: Ausschreibung | Beschreibung: Offizielle Ausschreibung mit Bieterfrist. | Link: https://ausschreibungsradar.com/ausschreibung/bf38794a-6484-44cf-9577-0b3c21919217/
URL:https://ausschreibungsradar.com/ausschreibung/bf38794a-6484-44cf-9577-0b3c21919217/
END:VEVENT
BEGIN:VEVENT
UID:c4b79ce93b016861@ausschreibungsradar.com
DTSTAMP:20260426T004457Z
DTSTART;VALUE=DATE:20260417
DTEND;VALUE=DATE:20260417
SUMMARY:Ausschreibung — Deutschland – Dienstleistungen von Architektur-\, Konstruktio
DESCRIPTION:Phase: Ausschreibung | Beschreibung: Offizielle Ausschreibung mit Bieterfrist. | Link: https://ausschreibungsradar.com/ausschreibung/ted-264377-2026/
URL:https://ausschreibungsradar.com/ausschreibung/ted-264377-2026/
END:VEVENT
BEGIN:VEVENT
UID:5700cc755286db5d@ausschreibungsradar.com
DTSTAMP:20260426T004457Z
DTSTART;VALUE=DATE:20260424
DTEND;VALUE=DATE:20260424
SUMMARY:Zuschlag — Deutschland – Dienstleistungen von Architektur-\, Konstruktio
DESCRIPTION:Phase: Zuschlag | Beschreibung: Vergabeergebnis — Auftrag wurde erteilt oder Verfahren beendet. | Link: https://ausschreibungsradar.com/ausschreibung/ted-283720-2026/
URL:https://ausschreibungsradar.com/ausschreibung/ted-283720-2026/
END:VEVENT
END:VCALENDAR
