BEGIN:VCALENDAR
VERSION:2.0
PRODID:-//AusschreibungsRadar//Timeline//DE
CALSCALE:GREGORIAN
METHOD:PUBLISH
X-WR-CALNAME:Projekt Deutschland – Gebäudereinigung – Abschluss von Rahmenverträg
X-WR-TIMEZONE:Europe/Berlin
BEGIN:VEVENT
UID:2603da753407e3e6@ausschreibungsradar.com
DTSTAMP:20260425T175144Z
DTSTART;VALUE=DATE:20260417
DTEND;VALUE=DATE:20260417
SUMMARY:Zuschlag — Deutschland – Gebäudereinigung – Abschluss von Rahmenverträg
DESCRIPTION:Phase: Zuschlag | Beschreibung: Vergabeergebnis — Auftrag wurde erteilt oder Verfahren beendet. | Link: https://ausschreibungsradar.com/ausschreibung/ted-264140-2026/
URL:https://ausschreibungsradar.com/ausschreibung/ted-264140-2026/
END:VEVENT
BEGIN:VEVENT
UID:8be9204ae5298d85@ausschreibungsradar.com
DTSTAMP:20260425T175144Z
DTSTART;VALUE=DATE:20260420
DTEND;VALUE=DATE:20260420
SUMMARY:Ausschreibung — Deutschland – Gebäudereinigung – Abschluss von Rahmenverträg
DESCRIPTION:Phase: Ausschreibung | Beschreibung: Offizielle Ausschreibung mit Bieterfrist. | Link: https://ausschreibungsradar.com/ausschreibung/ted-266742-2026/
URL:https://ausschreibungsradar.com/ausschreibung/ted-266742-2026/
END:VEVENT
BEGIN:VEVENT
UID:d52d1be163c9fe21@ausschreibungsradar.com
DTSTAMP:20260425T175144Z
DTSTART;VALUE=DATE:20260423
DTEND;VALUE=DATE:20260423
SUMMARY:Ausschreibung — Deutschland – Gebäudereinigung – Abschluss von Rahmenverträg
DESCRIPTION:Phase: Ausschreibung | Beschreibung: Offizielle Ausschreibung mit Bieterfrist. | Link: https://ausschreibungsradar.com/ausschreibung/ted-279763-2026/
URL:https://ausschreibungsradar.com/ausschreibung/ted-279763-2026/
END:VEVENT
END:VCALENDAR
