BEGIN:VCALENDAR
VERSION:2.0
PRODID:-//AusschreibungsRadar//Timeline//DE
CALSCALE:GREGORIAN
METHOD:PUBLISH
X-WR-CALNAME:Projekt Deutschland – Arzneimittel – Abschlusses eines nicht-exkl. R
X-WR-TIMEZONE:Europe/Berlin
BEGIN:VEVENT
UID:3a57de8da882d25e@ausschreibungsradar.com
DTSTAMP:20260424T081019Z
DTSTART;VALUE=DATE:20260416
DTEND;VALUE=DATE:20260416
SUMMARY:Ausschreibung — Deutschland – Arzneimittel – Abschlusses eines nicht-exkl. R
DESCRIPTION:Phase: Ausschreibung | Beschreibung: Offizielle Ausschreibung mit Bieterfrist. | Link: https://ausschreibungsradar.com/ausschreibung/8ff0d075-b3d7-4c7d-8c85-d0bc03b38689/
URL:https://ausschreibungsradar.com/ausschreibung/8ff0d075-b3d7-4c7d-8c85-d0bc03b38689/
END:VEVENT
BEGIN:VEVENT
UID:6958ac92a0df44ca@ausschreibungsradar.com
DTSTAMP:20260424T081019Z
DTSTART;VALUE=DATE:20260420
DTEND;VALUE=DATE:20260420
SUMMARY:Ausschreibung — Deutschland – Arzneimittel – Abschlusses eines nicht-exkl. R
DESCRIPTION:Phase: Ausschreibung | Beschreibung: Offizielle Ausschreibung mit Bieterfrist. | Link: https://ausschreibungsradar.com/ausschreibung/ted-268238-2026/
URL:https://ausschreibungsradar.com/ausschreibung/ted-268238-2026/
END:VEVENT
BEGIN:VEVENT
UID:fef1dc57f11fc954@ausschreibungsradar.com
DTSTAMP:20260424T081019Z
DTSTART;VALUE=DATE:20260421
DTEND;VALUE=DATE:20260421
SUMMARY:Ausschreibung — Deutschland – Arzneimittel – Abschlusses eines nicht-exkl. R
DESCRIPTION:Phase: Ausschreibung | Beschreibung: Offizielle Ausschreibung mit Bieterfrist. | Link: https://ausschreibungsradar.com/ausschreibung/69774a20-15f6-4eaf-9c7c-2e9d626163b6/
URL:https://ausschreibungsradar.com/ausschreibung/69774a20-15f6-4eaf-9c7c-2e9d626163b6/
END:VEVENT
END:VCALENDAR
