BEGIN:VCALENDAR
VERSION:2.0
PRODID:-//AusschreibungsRadar//Timeline//DE
CALSCALE:GREGORIAN
METHOD:PUBLISH
X-WR-CALNAME:Projekt Deutschland – Bautischlerei-Einbauarbeiten – Sanierung der G
X-WR-TIMEZONE:Europe/Berlin
BEGIN:VEVENT
UID:891033108daf8872@ausschreibungsradar.com
DTSTAMP:20260424T071509Z
DTSTART;VALUE=DATE:20260417
DTEND;VALUE=DATE:20260417
SUMMARY:Ausschreibung — Deutschland – Bautischlerei-Einbauarbeiten – Sanierung der G
DESCRIPTION:Phase: Ausschreibung | Beschreibung: Offizielle Ausschreibung mit Bieterfrist. | Link: https://ausschreibungsradar.com/ausschreibung/fa290e99-1a32-4041-a457-edffc3bd9f4b/
URL:https://ausschreibungsradar.com/ausschreibung/fa290e99-1a32-4041-a457-edffc3bd9f4b/
END:VEVENT
BEGIN:VEVENT
UID:1ff9a550a2f60b75@ausschreibungsradar.com
DTSTAMP:20260424T071509Z
DTSTART;VALUE=DATE:20260420
DTEND;VALUE=DATE:20260420
SUMMARY:Ausschreibung — Deutschland – Bautischlerei-Einbauarbeiten – Sanierung der G
DESCRIPTION:Phase: Ausschreibung | Beschreibung: Offizielle Ausschreibung mit Bieterfrist. | Link: https://ausschreibungsradar.com/ausschreibung/ted-268801-2026/
URL:https://ausschreibungsradar.com/ausschreibung/ted-268801-2026/
END:VEVENT
BEGIN:VEVENT
UID:37dbcca974d498e6@ausschreibungsradar.com
DTSTAMP:20260424T071509Z
DTSTART;VALUE=DATE:20260420
DTEND;VALUE=DATE:20260420
SUMMARY:Ausschreibung — Deutschland – Bautischlerei-Einbauarbeiten – Sanierung der G
DESCRIPTION:Phase: Ausschreibung | Beschreibung: Offizielle Ausschreibung mit Bieterfrist. | Link: https://ausschreibungsradar.com/ausschreibung/f7610d19-7c16-4a79-9786-5d3f02e1f22c/
URL:https://ausschreibungsradar.com/ausschreibung/f7610d19-7c16-4a79-9786-5d3f02e1f22c/
END:VEVENT
BEGIN:VEVENT
UID:0d24527df6cd956d@ausschreibungsradar.com
DTSTAMP:20260424T071509Z
DTSTART;VALUE=DATE:20260420
DTEND;VALUE=DATE:20260420
SUMMARY:Ausschreibung — Deutschland – Bautischlerei-Einbauarbeiten – Sanierung der G
DESCRIPTION:Phase: Ausschreibung | Beschreibung: Offizielle Ausschreibung mit Bieterfrist. | Link: https://ausschreibungsradar.com/ausschreibung/74dc94b6-81e7-4c77-b99c-9b696e310acb/
URL:https://ausschreibungsradar.com/ausschreibung/74dc94b6-81e7-4c77-b99c-9b696e310acb/
END:VEVENT
BEGIN:VEVENT
UID:45f0bc14f742f668@ausschreibungsradar.com
DTSTAMP:20260424T071509Z
DTSTART;VALUE=DATE:20260420
DTEND;VALUE=DATE:20260420
SUMMARY:Ausschreibung — Deutschland – Bautischlerei-Einbauarbeiten – Sanierung der G
DESCRIPTION:Phase: Ausschreibung | Beschreibung: Offizielle Ausschreibung mit Bieterfrist. | Link: https://ausschreibungsradar.com/ausschreibung/ca0521dc-bcf6-439f-a064-275e948c0ed3/
URL:https://ausschreibungsradar.com/ausschreibung/ca0521dc-bcf6-439f-a064-275e948c0ed3/
END:VEVENT
BEGIN:VEVENT
UID:8e3fe2220bfada8f@ausschreibungsradar.com
DTSTAMP:20260424T071509Z
DTSTART;VALUE=DATE:20260420
DTEND;VALUE=DATE:20260420
SUMMARY:Ausschreibung — Deutschland – Bautischlerei-Einbauarbeiten – Sanierung der G
DESCRIPTION:Phase: Ausschreibung | Beschreibung: Offizielle Ausschreibung mit Bieterfrist. | Link: https://ausschreibungsradar.com/ausschreibung/fb465e9a-c0ca-4ac4-be4c-95ec533ffebb/
URL:https://ausschreibungsradar.com/ausschreibung/fb465e9a-c0ca-4ac4-be4c-95ec533ffebb/
END:VEVENT
END:VCALENDAR
