BEGIN:VCALENDAR
VERSION:2.0
PRODID:-//AusschreibungsRadar//Timeline//DE
CALSCALE:GREGORIAN
METHOD:PUBLISH
X-WR-CALNAME:Projekt Deutschland – Bautischlerei-Einbauarbeiten – Tischlerarbeite
X-WR-TIMEZONE:Europe/Berlin
BEGIN:VEVENT
UID:21f52c7aaac94f50@ausschreibungsradar.com
DTSTAMP:20260425T171424Z
DTSTART;VALUE=DATE:20260420
DTEND;VALUE=DATE:20260420
SUMMARY:Zuschlag — Deutschland – Bautischlerei-Einbauarbeiten – Tischlerarbeite
DESCRIPTION:Phase: Zuschlag | Beschreibung: Vergabeergebnis — Auftrag wurde erteilt oder Verfahren beendet. | Link: https://ausschreibungsradar.com/ausschreibung/623aa046-9fb6-4554-ae76-fa2842aceb48/
URL:https://ausschreibungsradar.com/ausschreibung/623aa046-9fb6-4554-ae76-fa2842aceb48/
END:VEVENT
BEGIN:VEVENT
UID:2a861240bf993d7a@ausschreibungsradar.com
DTSTAMP:20260425T171424Z
DTSTART;VALUE=DATE:20260421
DTEND;VALUE=DATE:20260421
SUMMARY:Zuschlag — Deutschland – Bautischlerei-Einbauarbeiten – Tischlerarbeite
DESCRIPTION:Phase: Zuschlag | Beschreibung: Vergabeergebnis — Auftrag wurde erteilt oder Verfahren beendet. | Link: https://ausschreibungsradar.com/ausschreibung/ted-270367-2026/ | Geschätzter Wert: 54629 €
URL:https://ausschreibungsradar.com/ausschreibung/ted-270367-2026/
END:VEVENT
END:VCALENDAR
