BEGIN:VCALENDAR
VERSION:2.0
PRODID:-//AusschreibungsRadar//Timeline//DE
CALSCALE:GREGORIAN
METHOD:PUBLISH
X-WR-CALNAME:Projekt Deutschland – Installation von Sanitäreinrichtungen – ZV - R
X-WR-TIMEZONE:Europe/Berlin
BEGIN:VEVENT
UID:cbdb2237a827daf3@ausschreibungsradar.com
DTSTAMP:20260424T014746Z
DTSTART;VALUE=DATE:20260420
DTEND;VALUE=DATE:20260420
SUMMARY:Zuschlag — Deutschland – Installation von Sanitäreinrichtungen – ZV - R
DESCRIPTION:Phase: Zuschlag | Beschreibung: Vergabeergebnis — Auftrag wurde erteilt oder Verfahren beendet. | Link: https://ausschreibungsradar.com/ausschreibung/b230ffd0-c483-4300-bea2-9a3564cedf0a/
URL:https://ausschreibungsradar.com/ausschreibung/b230ffd0-c483-4300-bea2-9a3564cedf0a/
END:VEVENT
BEGIN:VEVENT
UID:8b9a31ee257047a6@ausschreibungsradar.com
DTSTAMP:20260424T014746Z
DTSTART;VALUE=DATE:20260421
DTEND;VALUE=DATE:20260421
SUMMARY:Zuschlag — Deutschland – Installation von Sanitäreinrichtungen – ZV - R
DESCRIPTION:Phase: Zuschlag | Beschreibung: Vergabeergebnis — Auftrag wurde erteilt oder Verfahren beendet. | Link: https://ausschreibungsradar.com/ausschreibung/ted-271200-2026/ | Geschätzter Wert: -1 €
URL:https://ausschreibungsradar.com/ausschreibung/ted-271200-2026/
END:VEVENT
END:VCALENDAR
