BEGIN:VCALENDAR
VERSION:2.0
PRODID:-//AusschreibungsRadar//Timeline//DE
CALSCALE:GREGORIAN
METHOD:PUBLISH
X-WR-CALNAME:Projekt Deutschland – Unternehmens- und Managementberatung und zugeh
X-WR-TIMEZONE:Europe/Berlin
BEGIN:VEVENT
UID:00837d9ba6b82993@ausschreibungsradar.com
DTSTAMP:20260425T031050Z
DTSTART;VALUE=DATE:20260420
DTEND;VALUE=DATE:20260420
SUMMARY:Ausschreibung — Deutschland – Unternehmens- und Managementberatung und zugeh
DESCRIPTION:Phase: Ausschreibung | Beschreibung: Offizielle Ausschreibung mit Bieterfrist. | Link: https://ausschreibungsradar.com/ausschreibung/ted-267484-2026/
URL:https://ausschreibungsradar.com/ausschreibung/ted-267484-2026/
END:VEVENT
BEGIN:VEVENT
UID:046e89a8bc987446@ausschreibungsradar.com
DTSTAMP:20260425T031050Z
DTSTART;VALUE=DATE:20260421
DTEND;VALUE=DATE:20260421
SUMMARY:Ausschreibung — Deutschland – Unternehmens- und Managementberatung und zugeh
DESCRIPTION:Phase: Ausschreibung | Beschreibung: Offizielle Ausschreibung mit Bieterfrist. | Link: https://ausschreibungsradar.com/ausschreibung/ted-271317-2026/
URL:https://ausschreibungsradar.com/ausschreibung/ted-271317-2026/
END:VEVENT
END:VCALENDAR
