BEGIN:VCALENDAR
VERSION:2.0
PRODID:-//AusschreibungsRadar//Timeline//DE
CALSCALE:GREGORIAN
METHOD:PUBLISH
X-WR-CALNAME:Projekt Deutschland – Dienstleistungen für thermische Bauphysik – Fr
X-WR-TIMEZONE:Europe/Berlin
BEGIN:VEVENT
UID:4b5c846c3ce5d9bf@ausschreibungsradar.com
DTSTAMP:20260423T233127Z
DTSTART;VALUE=DATE:20260417
DTEND;VALUE=DATE:20260417
SUMMARY:Ausschreibung — Deutschland – Dienstleistungen für thermische Bauphysik – Fr
DESCRIPTION:Phase: Ausschreibung | Beschreibung: Offizielle Ausschreibung mit Bieterfrist. | Link: https://ausschreibungsradar.com/ausschreibung/9e5658b5-a4f8-4d4d-96f0-81562edac3e8/
URL:https://ausschreibungsradar.com/ausschreibung/9e5658b5-a4f8-4d4d-96f0-81562edac3e8/
END:VEVENT
BEGIN:VEVENT
UID:019c5cf937cf3d79@ausschreibungsradar.com
DTSTAMP:20260423T233127Z
DTSTART;VALUE=DATE:20260421
DTEND;VALUE=DATE:20260421
SUMMARY:Ausschreibung — Deutschland – Dienstleistungen für thermische Bauphysik – Fr
DESCRIPTION:Phase: Ausschreibung | Beschreibung: Offizielle Ausschreibung mit Bieterfrist. | Link: https://ausschreibungsradar.com/ausschreibung/ted-272470-2026/ | Geschätzter Wert: 85000 €
URL:https://ausschreibungsradar.com/ausschreibung/ted-272470-2026/
END:VEVENT
END:VCALENDAR
