BEGIN:VCALENDAR
VERSION:2.0
PRODID:-//AusschreibungsRadar//Timeline//DE
CALSCALE:GREGORIAN
METHOD:PUBLISH
X-WR-CALNAME:Projekt Deutschland – Bauarbeiten – Volkswohnung GmbH, VOB/A EU Verh
X-WR-TIMEZONE:Europe/Berlin
BEGIN:VEVENT
UID:a5dd82b3c9f4a6b8@ausschreibungsradar.com
DTSTAMP:20260425T214831Z
DTSTART;VALUE=DATE:20260323
DTEND;VALUE=DATE:20260323
SUMMARY:Ausschreibung — Deutschland – Bauarbeiten – Volkswohnung GmbH\, VOB/A EU Verh
DESCRIPTION:Phase: Ausschreibung | Beschreibung: Offizielle Ausschreibung mit Bieterfrist. | Link: https://ausschreibungsradar.com/ausschreibung/9443f48b-660f-4c45-8f77-d1d704f66294/
URL:https://ausschreibungsradar.com/ausschreibung/9443f48b-660f-4c45-8f77-d1d704f66294/
END:VEVENT
BEGIN:VEVENT
UID:dae47c4ec4cdf0e5@ausschreibungsradar.com
DTSTAMP:20260425T214831Z
DTSTART;VALUE=DATE:20260422
DTEND;VALUE=DATE:20260422
SUMMARY:Ausschreibung — Deutschland – Bauarbeiten – Volkswohnung GmbH\, VOB/A EU Verh
DESCRIPTION:Phase: Ausschreibung | Beschreibung: Offizielle Ausschreibung mit Bieterfrist. | Link: https://ausschreibungsradar.com/ausschreibung/ted-276389-2026/
URL:https://ausschreibungsradar.com/ausschreibung/ted-276389-2026/
END:VEVENT
END:VCALENDAR
