BEGIN:VCALENDAR
VERSION:2.0
PRODID:-//AusschreibungsRadar//Timeline//DE
CALSCALE:GREGORIAN
METHOD:PUBLISH
X-WR-CALNAME:Projekt Deutschland – Dienstleistungen für die öffentliche Verwaltun
X-WR-TIMEZONE:Europe/Berlin
BEGIN:VEVENT
UID:f35eade771f8f26d@ausschreibungsradar.com
DTSTAMP:20260426T032403Z
DTSTART;VALUE=DATE:20260422
DTEND;VALUE=DATE:20260422
SUMMARY:Direktvergabe (VEAT) — Deutschland – Dienstleistungen für die öffentliche Verwaltun
DESCRIPTION:Phase: Direktvergabe (VEAT) | Beschreibung: Ankündigung einer Direktvergabe mit 10-Tage-Stillhaltefrist. | Link: https://ausschreibungsradar.com/ausschreibung/ted-273282-2026/
URL:https://ausschreibungsradar.com/ausschreibung/ted-273282-2026/
END:VEVENT
BEGIN:VEVENT
UID:b53b7afb9ae8f461@ausschreibungsradar.com
DTSTAMP:20260426T032403Z
DTSTART;VALUE=DATE:20260423
DTEND;VALUE=DATE:20260423
SUMMARY:Direktvergabe (VEAT) — Deutschland – Dienstleistungen für die öffentliche Verwaltun
DESCRIPTION:Phase: Direktvergabe (VEAT) | Beschreibung: Ankündigung einer Direktvergabe mit 10-Tage-Stillhaltefrist. | Link: https://ausschreibungsradar.com/ausschreibung/ted-276971-2026/ | Geschätzter Wert: 1642
URL:https://ausschreibungsradar.com/ausschreibung/ted-276971-2026/
END:VEVENT
END:VCALENDAR
