BEGIN:VCALENDAR
VERSION:2.0
PRODID:-//AusschreibungsRadar//Timeline//DE
CALSCALE:GREGORIAN
METHOD:PUBLISH
X-WR-CALNAME:Projekt Deutschland – Bauarbeiten – Neubau Mehrzweckgebäude in Kraus
X-WR-TIMEZONE:Europe/Berlin
BEGIN:VEVENT
UID:80b1d0d96bf9bc62@ausschreibungsradar.com
DTSTAMP:20260426T011255Z
DTSTART;VALUE=DATE:20260407
DTEND;VALUE=DATE:20260407
SUMMARY:Ausschreibung — Deutschland – Bauarbeiten – Neubau Mehrzweckgebäude in Kraus
DESCRIPTION:Phase: Ausschreibung | Beschreibung: Offizielle Ausschreibung mit Bieterfrist. | Link: https://ausschreibungsradar.com/ausschreibung/976d5e53-ba5a-4cdf-b5c5-e3330c8caa3e/
URL:https://ausschreibungsradar.com/ausschreibung/976d5e53-ba5a-4cdf-b5c5-e3330c8caa3e/
END:VEVENT
BEGIN:VEVENT
UID:9f18b8077cd1cb55@ausschreibungsradar.com
DTSTAMP:20260426T011255Z
DTSTART;VALUE=DATE:20260423
DTEND;VALUE=DATE:20260423
SUMMARY:Zuschlag — Deutschland – Bauarbeiten – Neubau Mehrzweckgebäude in Kraus
DESCRIPTION:Phase: Zuschlag | Beschreibung: Vergabeergebnis — Auftrag wurde erteilt oder Verfahren beendet. | Link: https://ausschreibungsradar.com/ausschreibung/ted-277405-2026/ | Geschätzter Wert: -1 €
URL:https://ausschreibungsradar.com/ausschreibung/ted-277405-2026/
END:VEVENT
END:VCALENDAR
