BEGIN:VCALENDAR
VERSION:2.0
PRODID:-//AusschreibungsRadar//Timeline//DE
CALSCALE:GREGORIAN
METHOD:PUBLISH
X-WR-CALNAME:Projekt Deutschland – Medizinsoftwarepaket – Interne mobile Akte Cha
X-WR-TIMEZONE:Europe/Berlin
BEGIN:VEVENT
UID:5edaec005ba73e93@ausschreibungsradar.com
DTSTAMP:20260426T032453Z
DTSTART;VALUE=DATE:20240726
DTEND;VALUE=DATE:20240726
SUMMARY:Direktvergabe (VEAT) — Deutschland – Medizinsoftwarepaket – Interne mobile Akte Cha
DESCRIPTION:Phase: Direktvergabe (VEAT) | Beschreibung: Ankündigung einer Direktvergabe mit 10-Tage-Stillhaltefrist. | Link: https://ausschreibungsradar.com/ausschreibung/1b82572e-8f24-4139-9d64-b5fe6f816e76/
URL:https://ausschreibungsradar.com/ausschreibung/1b82572e-8f24-4139-9d64-b5fe6f816e76/
END:VEVENT
BEGIN:VEVENT
UID:2d555c842686b573@ausschreibungsradar.com
DTSTAMP:20260426T032453Z
DTSTART;VALUE=DATE:20240729
DTEND;VALUE=DATE:20240729
SUMMARY:Direktvergabe (VEAT) — Deutschland – Medizinsoftwarepaket – Interne mobile Akte Cha
DESCRIPTION:Phase: Direktvergabe (VEAT) | Beschreibung: Ankündigung einer Direktvergabe mit 10-Tage-Stillhaltefrist. | Link: https://ausschreibungsradar.com/ausschreibung/ted-453506-2024/
URL:https://ausschreibungsradar.com/ausschreibung/ted-453506-2024/
END:VEVENT
END:VCALENDAR
